BEGIN:VCALENDAR
VERSION:2.0
PRODID:-//UNIVERSITY OF TEXAS SCHOOL OF LAW//NONSGML Events Calendar v1.0//EN
X-WR-TIMEZONE:America/Chicago
BEGIN:VTIMEZONE
TZID:US/Central
X-LIC-LOCATION:America/Chicago
BEGIN:DAYLIGHT
TZOFFSETFROM:-0600
TZOFFSETTO:-0500
TZNAME:CDT
DTSTART:19700308T020000
RRULE:FREQ=YEARLY;BYMONTH=3;BYDAY=2SU
END:DAYLIGHT
BEGIN:STANDARD
TZOFFSETFROM:-0500
TZOFFSETTO:-0600
TZNAME:CST
DTSTART:19701101T020000
RRULE:FREQ=YEARLY;BYMONTH=11;BYDAY=1SU
END:STANDARD
END:VTIMEZONE
BEGIN:VEVENT
DTSTART;TZID=US/Central:20110308T110000
DTEND;VALUE=DATE-TIME;TZID=US/Central:20110308T130000

DTSTAMP:20260424T135700Z
CREATED:20110304T165100Z
LAST-MODIFIED:20110304T165200Z
UID:20110308T110000-11182@law.utexas.edu
SUMMARY:Reference on-the-Go
DESCRIPTION:<p>Are you currently enrolled in a seminar? Having trouble choosing a paper topic or getting started with your research? Reference librarians are here to help! Reference Librarians will be available in George’s Café on Tuesday, March 8th from 11 a.m. until 1 p.m. This is the last day of Reference-on-the-Go, so be sure to stop by to ask questions or set up an appointment for more in-depth research help!
  </p>\n\nIf you need an accommodation to participate in this event, please contact the event sponsor or the Texas Law Special Events Office at specialevents@law.utexas.edu no later than seven business days prior to the event.
X-ALT-DESC;FMTTYPE=text/html:<p>Are you currently enrolled in a seminar? Having trouble choosing a paper topic or getting started with your research? Reference librarians are here to help! Reference Librarians will be available in George’s Café on Tuesday, March 8th from 11 a.m. until 1 p.m. This is the last day of Reference-on-the-Go, so be sure to stop by to ask questions or set up an appointment for more in-depth research help!
  </p><p>If you need an accommodation to participate in this event, please contact the event
                                          event sponsor or the Texas Law Special Events Office at <a href="mailto:specialevents@law.utexas.edu">specialevents@law.utexas.edu</a> no later than seven business days prior to the event.</p>


URL:http://law.utexas.edu/calendar/2011/03/08/11182/
CLASS:PUBLIC
STATUS:CONFIRMED

END:VEVENT
END:VCALENDAR