BEGIN:VCALENDAR
VERSION:2.0
PRODID:-//UNIVERSITY OF TEXAS SCHOOL OF LAW//NONSGML Events Calendar v1.0//EN
X-WR-TIMEZONE:America/Chicago
BEGIN:VTIMEZONE
TZID:US/Central
X-LIC-LOCATION:America/Chicago
BEGIN:DAYLIGHT
TZOFFSETFROM:-0600
TZOFFSETTO:-0500
TZNAME:CDT
DTSTART:19700308T020000
RRULE:FREQ=YEARLY;BYMONTH=3;BYDAY=2SU
END:DAYLIGHT
BEGIN:STANDARD
TZOFFSETFROM:-0500
TZOFFSETTO:-0600
TZNAME:CST
DTSTART:19701101T020000
RRULE:FREQ=YEARLY;BYMONTH=11;BYDAY=1SU
END:STANDARD
END:VTIMEZONE
BEGIN:VEVENT
DTSTART;TZID=US/Central:20110308T173000
DTEND;VALUE=DATE-TIME;TZID=US/Central:20110308T183000

DTSTAMP:20260424T123500Z
CREATED:20110307T212700Z
LAST-MODIFIED:20110307T213000Z
UID:20110308T173000-11202@law.utexas.edu
SUMMARY:Texas Law Democrats meeting
DESCRIPTION:<p>Join us for the first Texas Law Democrats meeting of the semester! Meet your fellow law school Democrats and learn more about our organization. This semester we will have social, networking, and service opportunities. We will also have snacks at the meeting!</p>
  <p>Tuesday, March 8, 2011
  5:30-6:30 p.m.
  TNH 3.142
  Questions? Email txlawdems@gmail.com</p>\n\nIf you need an accommodation to participate in this event, please contact the event sponsor or the Texas Law Special Events Office at specialevents@law.utexas.edu no later than seven business days prior to the event.
X-ALT-DESC;FMTTYPE=text/html:<p>Join us for the first Texas Law Democrats meeting of the semester! Meet your fellow law school Democrats and learn more about our organization. This semester we will have social, networking, and service opportunities. We will also have snacks at the meeting!</p>
  <p>Tuesday, March 8, 2011
  5:30-6:30 p.m.
  TNH 3.142
  Questions? Email txlawdems@gmail.com</p><p>If you need an accommodation to participate in this event, please contact the event
                                          event sponsor or the Texas Law Special Events Office at <a href="mailto:specialevents@law.utexas.edu">specialevents@law.utexas.edu</a> no later than seven business days prior to the event.</p>
CATEGORIES:Meeting
LOCATION:TNH 3.142 - Walker Classroom
URL:http://law.utexas.edu/calendar/2011/03/08/11202/
CLASS:PUBLIC
STATUS:CONFIRMED

END:VEVENT
END:VCALENDAR