BEGIN:VCALENDAR
VERSION:2.0
PRODID:-//UNIVERSITY OF TEXAS SCHOOL OF LAW//NONSGML Events Calendar v1.0//EN
X-WR-TIMEZONE:America/Chicago
BEGIN:VTIMEZONE
TZID:US/Central
X-LIC-LOCATION:America/Chicago
BEGIN:DAYLIGHT
TZOFFSETFROM:-0600
TZOFFSETTO:-0500
TZNAME:CDT
DTSTART:19700308T020000
RRULE:FREQ=YEARLY;BYMONTH=3;BYDAY=2SU
END:DAYLIGHT
BEGIN:STANDARD
TZOFFSETFROM:-0500
TZOFFSETTO:-0600
TZNAME:CST
DTSTART:19701101T020000
RRULE:FREQ=YEARLY;BYMONTH=11;BYDAY=1SU
END:STANDARD
END:VTIMEZONE
BEGIN:VEVENT
DTSTART;TZID=US/Central:20110309T113000
DTEND;VALUE=DATE-TIME;TZID=US/Central:20110309T123000

DTSTAMP:20260424T122900Z
CREATED:20110114T023700Z
LAST-MODIFIED:20110308T220600Z
UID:20110309T113000-10274@law.utexas.edu
SUMMARY:Building Your Financial House
DESCRIPTION:<p>Get your financial house in order. This practical workshop is open to all UT Law students, but is geared towards 3Ls entering public interest law or government. Presented by Mark O’Malley and Sarah Erp, <a href="http://www.newyorklife.com/">New York Life Insurance Company</a>. Lunch will be served. RSVP by Tuesday, March 8, on <a href="https://law-utexas-csm.symplicity.com/students/">UT Law Symplicity</a> by selecting the “Events” tab. </p>\n\nIf you need an accommodation to participate in this event, please contact the event sponsor or the Texas Law Special Events Office at specialevents@law.utexas.edu no later than seven business days prior to the event.
X-ALT-DESC;FMTTYPE=text/html:<p>Get your financial house in order. This practical workshop is open to all UT Law students, but is geared towards 3Ls entering public interest law or government. Presented by Mark O’Malley and Sarah Erp, <a href="http://www.newyorklife.com/">New York Life Insurance Company</a>. Lunch will be served. RSVP by Tuesday, March 8, on <a href="https://law-utexas-csm.symplicity.com/students/">UT Law Symplicity</a> by selecting the “Events” tab. </p><p>If you need an accommodation to participate in this event, please contact the event
                                          event sponsor or the Texas Law Special Events Office at <a href="mailto:specialevents@law.utexas.edu">specialevents@law.utexas.edu</a> no later than seven business days prior to the event.</p>
CATEGORIES:Workshop / Training Program
LOCATION:TNH 3.126 - Ratliff Classroom
URL:http://law.utexas.edu/calendar/2011/03/09/10274/
CLASS:PUBLIC
STATUS:CONFIRMED
COMMENT:Please contact Nicole Simmons at <a href="mailto:nsimmons@law.utexas.edu">nsimmons@law.utexas.edu</a> in the CSO.
END:VEVENT
END:VCALENDAR