BEGIN:VCALENDAR
VERSION:2.0
PRODID:-//UNIVERSITY OF TEXAS SCHOOL OF LAW//NONSGML Events Calendar v1.0//EN
X-WR-TIMEZONE:America/Chicago
BEGIN:VTIMEZONE
TZID:US/Central
X-LIC-LOCATION:America/Chicago
BEGIN:DAYLIGHT
TZOFFSETFROM:-0600
TZOFFSETTO:-0500
TZNAME:CDT
DTSTART:19700308T020000
RRULE:FREQ=YEARLY;BYMONTH=3;BYDAY=2SU
END:DAYLIGHT
BEGIN:STANDARD
TZOFFSETFROM:-0500
TZOFFSETTO:-0600
TZNAME:CST
DTSTART:19701101T020000
RRULE:FREQ=YEARLY;BYMONTH=11;BYDAY=1SU
END:STANDARD
END:VTIMEZONE
BEGIN:VEVENT
DTSTART;TZID=US/Central:20110309T180000
DTEND;VALUE=DATE-TIME;TZID=US/Central:20110309T190000

DTSTAMP:20260424T122900Z
CREATED:20110303T163600Z
LAST-MODIFIED:20110307T213100Z
UID:20110309T180000-11163@law.utexas.edu
SUMMARY:IPLS Meeting
DESCRIPTION:<p>The Intellectual Property Law Society will host its next meeting WEDNESDAY 3/9/11.</p>
  <p>Speaker:  Matt Hawkins and Nate St. Clair
  Firm:  Jones Day
  Topic:  TBD
  Date:  3/9/11
  Time:  6:00 pm - 7:00 pm
  Room:  3.142
  Food:  Maudie's</p>\n\nIf you need an accommodation to participate in this event, please contact the event sponsor or the Texas Law Special Events Office at specialevents@law.utexas.edu no later than seven business days prior to the event.
X-ALT-DESC;FMTTYPE=text/html:<p>The Intellectual Property Law Society will host its next meeting WEDNESDAY 3/9/11.</p>
  <p>Speaker:  Matt Hawkins and Nate St. Clair
  Firm:  Jones Day
  Topic:  TBD
  Date:  3/9/11
  Time:  6:00 pm - 7:00 pm
  Room:  3.142
  Food:  Maudie's</p><p>If you need an accommodation to participate in this event, please contact the event
                                          event sponsor or the Texas Law Special Events Office at <a href="mailto:specialevents@law.utexas.edu">specialevents@law.utexas.edu</a> no later than seven business days prior to the event.</p>
CATEGORIES:Meeting
LOCATION:TNH 3.142 - Walker Classroom
URL:http://law.utexas.edu/calendar/2011/03/09/11163/
CLASS:PUBLIC
STATUS:CONFIRMED

END:VEVENT
END:VCALENDAR