BEGIN:VCALENDAR
VERSION:2.0
PRODID:-//UNIVERSITY OF TEXAS SCHOOL OF LAW//NONSGML Events Calendar v1.0//EN
X-WR-TIMEZONE:America/Chicago
BEGIN:VTIMEZONE
TZID:US/Central
X-LIC-LOCATION:America/Chicago
BEGIN:DAYLIGHT
TZOFFSETFROM:-0600
TZOFFSETTO:-0500
TZNAME:CDT
DTSTART:19700308T020000
RRULE:FREQ=YEARLY;BYMONTH=3;BYDAY=2SU
END:DAYLIGHT
BEGIN:STANDARD
TZOFFSETFROM:-0500
TZOFFSETTO:-0600
TZNAME:CST
DTSTART:19701101T020000
RRULE:FREQ=YEARLY;BYMONTH=11;BYDAY=1SU
END:STANDARD
END:VTIMEZONE
BEGIN:VEVENT
DTSTART;TZID=US/Central:20110316T120000
DTEND;TZID=US/Central:20110316T120000

DTSTAMP:20260424T123500Z
CREATED:20110222T194500Z
LAST-MODIFIED:20110222T194500Z
UID:20110316T000000-11022@law.utexas.edu
SUMMARY:Reg. Deadline for Financial Freedom
DESCRIPTION:<p>Students who would like to attend the “Planning for Financial Freedom Working Session” on Wednesday, March 23, must complete and return a <a href="http://www.utexas.edu/law/career/public/financial_planning_form2011.pdf">registration form</a> to Nicole Simmons in the CSO (TNH 3.130) no later than noon on Wednesday, March 16. Preference given to 3Ls entering the public sector.  </p>\n\nIf you need an accommodation to participate in this event, please contact the event sponsor or the Texas Law Special Events Office at specialevents@law.utexas.edu no later than seven business days prior to the event.
X-ALT-DESC;FMTTYPE=text/html:<p>Students who would like to attend the “Planning for Financial Freedom Working Session” on Wednesday, March 23, must complete and return a <a href="http://www.utexas.edu/law/career/public/financial_planning_form2011.pdf">registration form</a> to Nicole Simmons in the CSO (TNH 3.130) no later than noon on Wednesday, March 16. Preference given to 3Ls entering the public sector.  </p><p>If you need an accommodation to participate in this event, please contact the event
                                          event sponsor or the Texas Law Special Events Office at <a href="mailto:specialevents@law.utexas.edu">specialevents@law.utexas.edu</a> no later than seven business days prior to the event.</p>


URL:http://law.utexas.edu/calendar/2011/03/16/11022/
CLASS:PUBLIC
STATUS:CONFIRMED
COMMENT:Please contact Nicole Simmons at <a href="mailto:nsimmons@law.utexas.edu">nsimmons@law.utexas.edu</a> in the CSO.
END:VEVENT
END:VCALENDAR