BEGIN:VCALENDAR
VERSION:2.0
PRODID:-//UNIVERSITY OF TEXAS SCHOOL OF LAW//NONSGML Events Calendar v1.0//EN
X-WR-TIMEZONE:America/Chicago
BEGIN:VTIMEZONE
TZID:US/Central
X-LIC-LOCATION:America/Chicago
BEGIN:DAYLIGHT
TZOFFSETFROM:-0600
TZOFFSETTO:-0500
TZNAME:CDT
DTSTART:19700308T020000
RRULE:FREQ=YEARLY;BYMONTH=3;BYDAY=2SU
END:DAYLIGHT
BEGIN:STANDARD
TZOFFSETFROM:-0500
TZOFFSETTO:-0600
TZNAME:CST
DTSTART:19701101T020000
RRULE:FREQ=YEARLY;BYMONTH=11;BYDAY=1SU
END:STANDARD
END:VTIMEZONE
BEGIN:VEVENT
DTSTART;TZID=US/Central:20110318
DTEND;TZID=US/Central:20110319
X-MICROSOFT-CDO-ALLDAYEVENT:TRUE
X-FUNAMBOL-ALLDAY:TRUE
DTSTAMP:20260424T122900Z
CREATED:20110222T150000Z
LAST-MODIFIED:20110222T150000Z
UID:20110318T000000-11012@law.utexas.edu
SUMMARY:Spring Pledge Drive
DESCRIPTION:<p>The Spring Pledge Drive raises money to support law students doing public interest work during the summer.  By collecting donations and pledges TLF provides stipends to students chosen by the donors.  We encourage the entire UT community to come out and support public interest law by pledging what they can and spreading the word to family and friends.  We hope that this year's donations will fund even more students than in the past.</p>
  <p>TLF will be in the Atrium the week of March 7th and again the week after spring break until March 25th from 10-2 PM, collecting donations and answering any questions you may have about the Pledge Drive. Faculty, students, friends and family are all welcome to donate either in person at the law school atrium or on our website (texaslawfellowships.org).  For further questions, please contact Kimberly Ashworth (kimberly.ashworth@gmail.com) or Marissa Neuman (marissa.s.neuman@gmail.com).</p>\n\nIf you need an accommodation to participate in this event, please contact the event sponsor or the Texas Law Special Events Office at specialevents@law.utexas.edu no later than seven business days prior to the event.
X-ALT-DESC;FMTTYPE=text/html:<p>The Spring Pledge Drive raises money to support law students doing public interest work during the summer.  By collecting donations and pledges TLF provides stipends to students chosen by the donors.  We encourage the entire UT community to come out and support public interest law by pledging what they can and spreading the word to family and friends.  We hope that this year's donations will fund even more students than in the past.</p>
  <p>TLF will be in the Atrium the week of March 7th and again the week after spring break until March 25th from 10-2 PM, collecting donations and answering any questions you may have about the Pledge Drive. Faculty, students, friends and family are all welcome to donate either in person at the law school atrium or on our website (texaslawfellowships.org).  For further questions, please contact Kimberly Ashworth (kimberly.ashworth@gmail.com) or Marissa Neuman (marissa.s.neuman@gmail.com).</p><p>If you need an accommodation to participate in this event, please contact the event
                                          event sponsor or the Texas Law Special Events Office at <a href="mailto:specialevents@law.utexas.edu">specialevents@law.utexas.edu</a> no later than seven business days prior to the event.</p>
CATEGORIES:Other
LOCATION:TNH 2.100 - Susman Godfrey Atrium
URL:http://law.utexas.edu/calendar/2011/03/18/11012/
CLASS:PUBLIC
STATUS:CONFIRMED
COMMENT:Please email Kimberly Ashworth (kimberly.ashworth@gmail.com) or Marissa Neuman (marissa.s.neuman@gmail.com).
END:VEVENT
END:VCALENDAR