BEGIN:VCALENDAR
VERSION:2.0
PRODID:-//UNIVERSITY OF TEXAS SCHOOL OF LAW//NONSGML Events Calendar v1.0//EN
X-WR-TIMEZONE:America/Chicago
BEGIN:VTIMEZONE
TZID:US/Central
X-LIC-LOCATION:America/Chicago
BEGIN:DAYLIGHT
TZOFFSETFROM:-0600
TZOFFSETTO:-0500
TZNAME:CDT
DTSTART:19700308T020000
RRULE:FREQ=YEARLY;BYMONTH=3;BYDAY=2SU
END:DAYLIGHT
BEGIN:STANDARD
TZOFFSETFROM:-0500
TZOFFSETTO:-0600
TZNAME:CST
DTSTART:19701101T020000
RRULE:FREQ=YEARLY;BYMONTH=11;BYDAY=1SU
END:STANDARD
END:VTIMEZONE
BEGIN:VEVENT
DTSTART;TZID=US/Central:20110322T160000
DTEND;VALUE=DATE-TIME;TZID=US/Central:20110322T180000

DTSTAMP:20260424T123500Z
CREATED:20110315T185500Z
LAST-MODIFIED:20110325T155000Z
UID:20110322T160000-11302@law.utexas.edu
SUMMARY:Open House: Centers in Suite 3.119
DESCRIPTION:<p>Please join us for an open house to celebrate the new Law School space shared by the Center for Women in Law, the Bernard and Audre Rapoport Center for Human Rights and Justice, and the Center for Global Energy, International Arbitration, and Environmental Law. Refreshments provided.</p>\n\nIf you need an accommodation to participate in this event, please contact the event sponsor or the Texas Law Special Events Office at specialevents@law.utexas.edu no later than seven business days prior to the event.
X-ALT-DESC;FMTTYPE=text/html:<p>Please join us for an open house to celebrate the new Law School space shared by the Center for Women in Law, the Bernard and Audre Rapoport Center for Human Rights and Justice, and the Center for Global Energy, International Arbitration, and Environmental Law. Refreshments provided.</p><p>If you need an accommodation to participate in this event, please contact the event
                                          event sponsor or the Texas Law Special Events Office at <a href="mailto:specialevents@law.utexas.edu">specialevents@law.utexas.edu</a> no later than seven business days prior to the event.</p>
CATEGORIES:Reception
LOCATION:TNH 3.119
URL:http://law.utexas.edu/calendar/2011/03/22/11302/
CLASS:PUBLIC
STATUS:CONFIRMED
COMMENT:Contact Sarah Cline x24857 or scline@law.utexas.edu
END:VEVENT
END:VCALENDAR