BEGIN:VCALENDAR
VERSION:2.0
PRODID:-//UNIVERSITY OF TEXAS SCHOOL OF LAW//NONSGML Events Calendar v1.0//EN
X-WR-TIMEZONE:America/Chicago
BEGIN:VTIMEZONE
TZID:US/Central
X-LIC-LOCATION:America/Chicago
BEGIN:DAYLIGHT
TZOFFSETFROM:-0600
TZOFFSETTO:-0500
TZNAME:CDT
DTSTART:19700308T020000
RRULE:FREQ=YEARLY;BYMONTH=3;BYDAY=2SU
END:DAYLIGHT
BEGIN:STANDARD
TZOFFSETFROM:-0500
TZOFFSETTO:-0600
TZNAME:CST
DTSTART:19701101T020000
RRULE:FREQ=YEARLY;BYMONTH=11;BYDAY=1SU
END:STANDARD
END:VTIMEZONE
BEGIN:VEVENT
DTSTART;TZID=US/Central:20110323T123000
DTEND;VALUE=DATE-TIME;TZID=US/Central:20110323T133000

DTSTAMP:20260424T122900Z
CREATED:20110128T195800Z
LAST-MODIFIED:20110322T202800Z
UID:20110323T123000-10606@law.utexas.edu
SUMMARY:CANCELED: Planning for Financial Freedom
DESCRIPTION:<p>Explore federal loan repayment and loan forgiveness programs and the UT Law LRAP in greater depth in a small group setting.  Preference given to 3Ls entering the public service sector.  To be eligible to attend, participants must have attended “Debt Management for Careers on Public Interest Law and Government” on February 23 or a similar presentation and must submit an application with questions about the programs. <a href="http://www.utexas.edu/law/career/public/financial_planning_form2011.pdf">Submit applications</a> no later than noon on Wednesday, March 16 to Nicole Simmons in the CSO at <a href="mailto:nsimmons@law.utexas.edu">nsimmons@law.utexas.edu</a>.</p>\n\nIf you need an accommodation to participate in this event, please contact the event sponsor or the Texas Law Special Events Office at specialevents@law.utexas.edu no later than seven business days prior to the event.
X-ALT-DESC;FMTTYPE=text/html:<p>Explore federal loan repayment and loan forgiveness programs and the UT Law LRAP in greater depth in a small group setting.  Preference given to 3Ls entering the public service sector.  To be eligible to attend, participants must have attended “Debt Management for Careers on Public Interest Law and Government” on February 23 or a similar presentation and must submit an application with questions about the programs. <a href="http://www.utexas.edu/law/career/public/financial_planning_form2011.pdf">Submit applications</a> no later than noon on Wednesday, March 16 to Nicole Simmons in the CSO at <a href="mailto:nsimmons@law.utexas.edu">nsimmons@law.utexas.edu</a>.</p><p>If you need an accommodation to participate in this event, please contact the event
                                          event sponsor or the Texas Law Special Events Office at <a href="mailto:specialevents@law.utexas.edu">specialevents@law.utexas.edu</a> no later than seven business days prior to the event.</p>
CATEGORIES:Workshop / Training Program
LOCATION:JON 5.206 - Susman Academic Center, Bryan and Michelle Goolsby Conference Suite (5.206 / 5.207)
URL:http://law.utexas.edu/calendar/2011/03/23/10606/
CLASS:PUBLIC
STATUS:CANCELLED
COMMENT:Please contact Nicole Simmons at <a href="mailto:nsimmons@law.utexas.edu">nsimmons@law.utexas.edu</a> in the CSO.
END:VEVENT
END:VCALENDAR