BEGIN:VCALENDAR
VERSION:2.0
PRODID:-//UNIVERSITY OF TEXAS SCHOOL OF LAW//NONSGML Events Calendar v1.0//EN
X-WR-TIMEZONE:America/Chicago
BEGIN:VTIMEZONE
TZID:US/Central
X-LIC-LOCATION:America/Chicago
BEGIN:DAYLIGHT
TZOFFSETFROM:-0600
TZOFFSETTO:-0500
TZNAME:CDT
DTSTART:19700308T020000
RRULE:FREQ=YEARLY;BYMONTH=3;BYDAY=2SU
END:DAYLIGHT
BEGIN:STANDARD
TZOFFSETFROM:-0500
TZOFFSETTO:-0600
TZNAME:CST
DTSTART:19701101T020000
RRULE:FREQ=YEARLY;BYMONTH=11;BYDAY=1SU
END:STANDARD
END:VTIMEZONE
BEGIN:VEVENT
DTSTART;TZID=US/Central:20110323T153000
DTEND;VALUE=DATE-TIME;TZID=US/Central:20110323T161500

DTSTAMP:20260424T123600Z
CREATED:20110318T191600Z
LAST-MODIFIED:20110321T204600Z
UID:20110323T153000-11353@law.utexas.edu
SUMMARY:ACCS General Meeting
DESCRIPTION:<p>NEW TIME! Attention 1Ls, 2Ls &amp; 3Ls: Expand your professional network by becoming a member of the Action Committee for Career Services! Members of the Action Committee for Career Services (ACCS; pronounced "Aces") partner with the Career Services Office to perform employer outreach, staff on-campus recruiting programs and off-campus receptions, and help develop career-related resources. We'll be discussing the status of the student business cards sales as well as the upcoming Happy Hour with Small &amp; Midsize Firms on April 7. To become a member of the ACCS, please <a href="http://www.utexas.edu/law/career/form/accs.html">submit your application online</a>. </p>\n\nIf you need an accommodation to participate in this event, please contact the event sponsor or the Texas Law Special Events Office at specialevents@law.utexas.edu no later than seven business days prior to the event.
X-ALT-DESC;FMTTYPE=text/html:<p>NEW TIME! Attention 1Ls, 2Ls &amp; 3Ls: Expand your professional network by becoming a member of the Action Committee for Career Services! Members of the Action Committee for Career Services (ACCS; pronounced "Aces") partner with the Career Services Office to perform employer outreach, staff on-campus recruiting programs and off-campus receptions, and help develop career-related resources. We'll be discussing the status of the student business cards sales as well as the upcoming Happy Hour with Small &amp; Midsize Firms on April 7. To become a member of the ACCS, please <a href="http://www.utexas.edu/law/career/form/accs.html">submit your application online</a>. </p><p>If you need an accommodation to participate in this event, please contact the event
                                          event sponsor or the Texas Law Special Events Office at <a href="mailto:specialevents@law.utexas.edu">specialevents@law.utexas.edu</a> no later than seven business days prior to the event.</p>

LOCATION:Career Services Interview Suite (TNH 3.122)
URL:http://law.utexas.edu/calendar/2011/03/23/11353/
CLASS:PUBLIC
STATUS:CONFIRMED
COMMENT:Please contact Deb Freeman at <a href="mailto:dfreeman@law.utexas.edu">dfreeman@law.utexas.edu</a> in the CSO.
END:VEVENT
END:VCALENDAR