BEGIN:VCALENDAR
VERSION:2.0
PRODID:-//UNIVERSITY OF TEXAS SCHOOL OF LAW//NONSGML Events Calendar v1.0//EN
X-WR-TIMEZONE:America/Chicago
BEGIN:VTIMEZONE
TZID:US/Central
X-LIC-LOCATION:America/Chicago
BEGIN:DAYLIGHT
TZOFFSETFROM:-0600
TZOFFSETTO:-0500
TZNAME:CDT
DTSTART:19700308T020000
RRULE:FREQ=YEARLY;BYMONTH=3;BYDAY=2SU
END:DAYLIGHT
BEGIN:STANDARD
TZOFFSETFROM:-0500
TZOFFSETTO:-0600
TZNAME:CST
DTSTART:19701101T020000
RRULE:FREQ=YEARLY;BYMONTH=11;BYDAY=1SU
END:STANDARD
END:VTIMEZONE
BEGIN:VEVENT
DTSTART;TZID=US/Central:20110324T090000
DTEND;VALUE=DATE-TIME;TZID=US/Central:20110324T160000

DTSTAMP:20260424T123600Z
CREATED:20110113T145800Z
LAST-MODIFIED:20110113T151200Z
UID:20110324T090000-10242@law.utexas.edu
SUMMARY:ASD
DESCRIPTION:<p>Tours of Austin and the Law School in addition appointments with financial aid counselors for admitted students (Class of 2014).</p>\n\nIf you need an accommodation to participate in this event, please contact the event sponsor or the Texas Law Special Events Office at specialevents@law.utexas.edu no later than seven business days prior to the event.
X-ALT-DESC;FMTTYPE=text/html:<p>Tours of Austin and the Law School in addition appointments with financial aid counselors for admitted students (Class of 2014).</p><p>If you need an accommodation to participate in this event, please contact the event
                                          event sponsor or the Texas Law Special Events Office at <a href="mailto:specialevents@law.utexas.edu">specialevents@law.utexas.edu</a> no later than seven business days prior to the event.</p>


URL:http://law.utexas.edu/calendar/2011/03/24/10242/
CLASS:PUBLIC
STATUS:CONFIRMED
COMMENT:sriley@law.utexas.edu
END:VEVENT
END:VCALENDAR