BEGIN:VCALENDAR
VERSION:2.0
PRODID:-//UNIVERSITY OF TEXAS SCHOOL OF LAW//NONSGML Events Calendar v1.0//EN
X-WR-TIMEZONE:America/Chicago
BEGIN:VTIMEZONE
TZID:US/Central
X-LIC-LOCATION:America/Chicago
BEGIN:DAYLIGHT
TZOFFSETFROM:-0600
TZOFFSETTO:-0500
TZNAME:CDT
DTSTART:19700308T020000
RRULE:FREQ=YEARLY;BYMONTH=3;BYDAY=2SU
END:DAYLIGHT
BEGIN:STANDARD
TZOFFSETFROM:-0500
TZOFFSETTO:-0600
TZNAME:CST
DTSTART:19701101T020000
RRULE:FREQ=YEARLY;BYMONTH=11;BYDAY=1SU
END:STANDARD
END:VTIMEZONE
BEGIN:VEVENT
DTSTART;TZID=US/Central:20110324T113000
DTEND;VALUE=DATE-TIME;TZID=US/Central:20110324T123000

DTSTAMP:20260424T122900Z
CREATED:20110125T153800Z
LAST-MODIFIED:20110321T192300Z
UID:20110324T113000-10502@law.utexas.edu
SUMMARY:Becoming a Judicial Clerkship Candidate
DESCRIPTION:<p>Now is the time for 1Ls to begin preparing to apply for judicial clerkships. Learn what law clerks do; why clerkships help you become a successful lawyer; what judges look for in selecting a law clerk; and what you can do now to become a successful candidate, including which courses to take. Panelists include Todd Bellaire ‘09, Law Clerk to the Honorable Sam Sparks, U.S. District Court for the Western District of Texas; Olga Kobzar ‘10, Law Clerk to the Honorable Debra Lehrmann, Supreme Court of Texas; and Professor Emily Kadens, Faculty Clerkship Advisor. RSVP by Wednesday, March 23, on <a href="https://law-utexas-csm.symplicity.com/students/">UT Law Symplicity</a> by selecting the 'Events' tab. </p>\n\nIf you need an accommodation to participate in this event, please contact the event sponsor or the Texas Law Special Events Office at specialevents@law.utexas.edu no later than seven business days prior to the event.
X-ALT-DESC;FMTTYPE=text/html:<p>Now is the time for 1Ls to begin preparing to apply for judicial clerkships. Learn what law clerks do; why clerkships help you become a successful lawyer; what judges look for in selecting a law clerk; and what you can do now to become a successful candidate, including which courses to take. Panelists include Todd Bellaire ‘09, Law Clerk to the Honorable Sam Sparks, U.S. District Court for the Western District of Texas; Olga Kobzar ‘10, Law Clerk to the Honorable Debra Lehrmann, Supreme Court of Texas; and Professor Emily Kadens, Faculty Clerkship Advisor. RSVP by Wednesday, March 23, on <a href="https://law-utexas-csm.symplicity.com/students/">UT Law Symplicity</a> by selecting the 'Events' tab. </p><p>If you need an accommodation to participate in this event, please contact the event
                                          event sponsor or the Texas Law Special Events Office at <a href="mailto:specialevents@law.utexas.edu">specialevents@law.utexas.edu</a> no later than seven business days prior to the event.</p>
CATEGORIES:Workshop / Training Program
LOCATION:TNH 3.140 - Jeffers Courtroom
URL:http://law.utexas.edu/calendar/2011/03/24/10502/
CLASS:PUBLIC
STATUS:CONFIRMED
COMMENT:Please contact Remi Ratliff at <a href="mailto:rrattliff@law.utexas.edu">rratliff@law.utexas.edu</a> in the CSO.
END:VEVENT
END:VCALENDAR