BEGIN:VCALENDAR
VERSION:2.0
PRODID:-//UNIVERSITY OF TEXAS SCHOOL OF LAW//NONSGML Events Calendar v1.0//EN
X-WR-TIMEZONE:America/Chicago
BEGIN:VTIMEZONE
TZID:US/Central
X-LIC-LOCATION:America/Chicago
BEGIN:DAYLIGHT
TZOFFSETFROM:-0600
TZOFFSETTO:-0500
TZNAME:CDT
DTSTART:19700308T020000
RRULE:FREQ=YEARLY;BYMONTH=3;BYDAY=2SU
END:DAYLIGHT
BEGIN:STANDARD
TZOFFSETFROM:-0500
TZOFFSETTO:-0600
TZNAME:CST
DTSTART:19701101T020000
RRULE:FREQ=YEARLY;BYMONTH=11;BYDAY=1SU
END:STANDARD
END:VTIMEZONE
BEGIN:VEVENT
DTSTART;TZID=US/Central:20110324T181500
DTEND;VALUE=DATE-TIME;TZID=US/Central:20110324T203000

DTSTAMP:20260424T123600Z
CREATED:20110318T222100Z
LAST-MODIFIED:20110318T222100Z
UID:20110324T181500-11354@law.utexas.edu
SUMMARY:1L Etiquette Dinner
DESCRIPTION:<p>(Invitation only to 1Ls who have signed up and been confirmed to attend). <a href="http://austinprotocol.com/index/about/">Etiquette consultant and attorney Sharon Schweitzer</a> from <a href="http://www.facebook.com/protocolww">Protocol &amp; Etiquette Worldwide</a> in Austin will discuss the finer points of business dining and protocol over a three-course seated dinner. This free 1L Etiquette Dinner is generously sponsored by <a href="http://www.lockelord.com/">Locke Lord Bissell &amp; Liddell</a>, who will be hosting a cocktail reception prior to dinner from 6:15-7:00 p.m. for the 1Ls attending. All guests should be seated for dinner promptly by 7:00 p.m. 
  </p>\n\nIf you need an accommodation to participate in this event, please contact the event sponsor or the Texas Law Special Events Office at specialevents@law.utexas.edu no later than seven business days prior to the event.
X-ALT-DESC;FMTTYPE=text/html:<p>(Invitation only to 1Ls who have signed up and been confirmed to attend). <a href="http://austinprotocol.com/index/about/">Etiquette consultant and attorney Sharon Schweitzer</a> from <a href="http://www.facebook.com/protocolww">Protocol &amp; Etiquette Worldwide</a> in Austin will discuss the finer points of business dining and protocol over a three-course seated dinner. This free 1L Etiquette Dinner is generously sponsored by <a href="http://www.lockelord.com/">Locke Lord Bissell &amp; Liddell</a>, who will be hosting a cocktail reception prior to dinner from 6:15-7:00 p.m. for the 1Ls attending. All guests should be seated for dinner promptly by 7:00 p.m. 
  </p><p>If you need an accommodation to participate in this event, please contact the event
                                          event sponsor or the Texas Law Special Events Office at <a href="mailto:specialevents@law.utexas.edu">specialevents@law.utexas.edu</a> no later than seven business days prior to the event.</p>
CATEGORIES:Workshop / Training Program
LOCATION:The University of Texas Club
URL:http://law.utexas.edu/calendar/2011/03/24/11354/
CLASS:PUBLIC
STATUS:CONFIRMED
COMMENT:Please contact Amanda Watkins at <a href="mailto:awatkins@law.utexas.edu">awatkins@law.utexas.edu</a> or 512-232-6056 in the CSO.
END:VEVENT
END:VCALENDAR