BEGIN:VCALENDAR
VERSION:2.0
PRODID:-//UNIVERSITY OF TEXAS SCHOOL OF LAW//NONSGML Events Calendar v1.0//EN
X-WR-TIMEZONE:America/Chicago
BEGIN:VTIMEZONE
TZID:US/Central
X-LIC-LOCATION:America/Chicago
BEGIN:DAYLIGHT
TZOFFSETFROM:-0600
TZOFFSETTO:-0500
TZNAME:CDT
DTSTART:19700308T020000
RRULE:FREQ=YEARLY;BYMONTH=3;BYDAY=2SU
END:DAYLIGHT
BEGIN:STANDARD
TZOFFSETFROM:-0500
TZOFFSETTO:-0600
TZNAME:CST
DTSTART:19701101T020000
RRULE:FREQ=YEARLY;BYMONTH=11;BYDAY=1SU
END:STANDARD
END:VTIMEZONE
BEGIN:VEVENT
DTSTART;TZID=US/Central:20110325T090000
DTEND;VALUE=DATE-TIME;TZID=US/Central:20110325T120000

DTSTAMP:20260424T123600Z
CREATED:20110215T155300Z
LAST-MODIFIED:20110323T202900Z
UID:20110325T090000-10863@law.utexas.edu
SUMMARY:Succeeding at the Business of Law
DESCRIPTION:<p>Whether you are thinking about starting your own practice or planning to work for a firm, come learn the business and practical aspects of succeeding in the new legal market. Attorneys will discuss the nuts and bolts of starting a practice; the technology lawyers need; getting clients, networking, and marketing your practice; law firm economics; and organizing and managing your practice. Additionally, they will talk about their specific practices in civil litigation, family law, criminal law, and business transactions. Panelists include <a href="http://www.jmccullarlaw.com/Attorneys/Janet-Mccullar.shtml">Janet McCullar</a>, Law Office of Janet McCullar; <a href="http://www.probate-realestatelawyer.com/attorneys.html#doug">Douglas A. Booth, '92</a>, Law Offices of Douglas A. Booth, P.C.; and <a href="http://www.pacefirm.com/profile.html">Kiele Pace, ’00</a>, The Pace Law Firm, P.C. Additionally, Ian Pittman, ’09, and Leigh Jorgeson, ’09, <a href="http://www.jptexaslaw.com/">Jorgeson Pittman, LLP</a>, will discuss their experience of starting a law firm directly out of law school. Moderated by <a href="http://www.dirkjordan.com">Dirk Jordan, ’92</a>, Jordan &amp; Brustkern, L.L.P. Lunch will be served. RSVP by Thursday, March 24, on <a href="https://law-utexas-csm.symplicity.com/students/">UT Law Symplicity</a> by selecting the “Events” tab.</p>\n\nIf you need an accommodation to participate in this event, please contact the event sponsor or the Texas Law Special Events Office at specialevents@law.utexas.edu no later than seven business days prior to the event.
X-ALT-DESC;FMTTYPE=text/html:<p>Whether you are thinking about starting your own practice or planning to work for a firm, come learn the business and practical aspects of succeeding in the new legal market. Attorneys will discuss the nuts and bolts of starting a practice; the technology lawyers need; getting clients, networking, and marketing your practice; law firm economics; and organizing and managing your practice. Additionally, they will talk about their specific practices in civil litigation, family law, criminal law, and business transactions. Panelists include <a href="http://www.jmccullarlaw.com/Attorneys/Janet-Mccullar.shtml">Janet McCullar</a>, Law Office of Janet McCullar; <a href="http://www.probate-realestatelawyer.com/attorneys.html#doug">Douglas A. Booth, '92</a>, Law Offices of Douglas A. Booth, P.C.; and <a href="http://www.pacefirm.com/profile.html">Kiele Pace, ’00</a>, The Pace Law Firm, P.C. Additionally, Ian Pittman, ’09, and Leigh Jorgeson, ’09, <a href="http://www.jptexaslaw.com/">Jorgeson Pittman, LLP</a>, will discuss their experience of starting a law firm directly out of law school. Moderated by <a href="http://www.dirkjordan.com">Dirk Jordan, ’92</a>, Jordan &amp; Brustkern, L.L.P. Lunch will be served. RSVP by Thursday, March 24, on <a href="https://law-utexas-csm.symplicity.com/students/">UT Law Symplicity</a> by selecting the “Events” tab.</p><p>If you need an accommodation to participate in this event, please contact the event
                                          event sponsor or the Texas Law Special Events Office at <a href="mailto:specialevents@law.utexas.edu">specialevents@law.utexas.edu</a> no later than seven business days prior to the event.</p>
CATEGORIES:Workshop / Training Program
LOCATION:TNH 3.142 - Walker Classroom
URL:http://law.utexas.edu/calendar/2011/03/25/10863/
CLASS:PUBLIC
STATUS:CONFIRMED
COMMENT:Please contact Simone Leavenworth at <a href="mailto:sleavenworth@law.utexas.edu">sleavenworth@law.utexas.edu</a> in the CSO.
END:VEVENT
END:VCALENDAR