BEGIN:VCALENDAR
VERSION:2.0
PRODID:-//UNIVERSITY OF TEXAS SCHOOL OF LAW//NONSGML Events Calendar v1.0//EN
X-WR-TIMEZONE:America/Chicago
BEGIN:VTIMEZONE
TZID:US/Central
X-LIC-LOCATION:America/Chicago
BEGIN:DAYLIGHT
TZOFFSETFROM:-0600
TZOFFSETTO:-0500
TZNAME:CDT
DTSTART:19700308T020000
RRULE:FREQ=YEARLY;BYMONTH=3;BYDAY=2SU
END:DAYLIGHT
BEGIN:STANDARD
TZOFFSETFROM:-0500
TZOFFSETTO:-0600
TZNAME:CST
DTSTART:19701101T020000
RRULE:FREQ=YEARLY;BYMONTH=11;BYDAY=1SU
END:STANDARD
END:VTIMEZONE
BEGIN:VEVENT
DTSTART;TZID=US/Central:20110326T190000
DTEND;VALUE=DATE-TIME;TZID=US/Central:20110326T213000

DTSTAMP:20260424T122900Z
CREATED:20110124T233100Z
LAST-MODIFIED:20110125T225200Z
UID:20110326T190000-10465@law.utexas.edu
SUMMARY:CHLSA 40th Anniversary Banquet
DESCRIPTION:<p>Students, alumni, faculty, staff, and practitioners are welcome to attend the 40th Anniversary Banquet of the Chicano/Hispanic Law Students' Association at UT Law. Help us celebrate the progress we have made in becoming one of the oldest, largest, and most established Hispanic student organizations in the country. The event will take place Saturday, March 26th, 2011, at 7pm at the Bob Bullock Texas State History Museum in Austin, Texas. Please RSVP by March 23rd. Contact Ambrosia Ortiz y Prentice by phone at (575) 650-2632. Individual tickets are $75 each. </p>\n\nIf you need an accommodation to participate in this event, please contact the event sponsor or the Texas Law Special Events Office at specialevents@law.utexas.edu no later than seven business days prior to the event.
X-ALT-DESC;FMTTYPE=text/html:<p>Students, alumni, faculty, staff, and practitioners are welcome to attend the 40th Anniversary Banquet of the Chicano/Hispanic Law Students' Association at UT Law. Help us celebrate the progress we have made in becoming one of the oldest, largest, and most established Hispanic student organizations in the country. The event will take place Saturday, March 26th, 2011, at 7pm at the Bob Bullock Texas State History Museum in Austin, Texas. Please RSVP by March 23rd. Contact Ambrosia Ortiz y Prentice by phone at (575) 650-2632. Individual tickets are $75 each. </p><p>If you need an accommodation to participate in this event, please contact the event
                                          event sponsor or the Texas Law Special Events Office at <a href="mailto:specialevents@law.utexas.edu">specialevents@law.utexas.edu</a> no later than seven business days prior to the event.</p>
CATEGORIES:Dinner
LOCATION:Bob Bullock Texas State History Museum
URL:http://law.utexas.edu/calendar/2011/03/26/10465/
CLASS:PUBLIC
STATUS:CONFIRMED
COMMENT:Call Ambrosia at (575) 650-2632
END:VEVENT
END:VCALENDAR