BEGIN:VCALENDAR
VERSION:2.0
PRODID:-//UNIVERSITY OF TEXAS SCHOOL OF LAW//NONSGML Events Calendar v1.0//EN
X-WR-TIMEZONE:America/Chicago
BEGIN:VTIMEZONE
TZID:US/Central
X-LIC-LOCATION:America/Chicago
BEGIN:DAYLIGHT
TZOFFSETFROM:-0600
TZOFFSETTO:-0500
TZNAME:CDT
DTSTART:19700308T020000
RRULE:FREQ=YEARLY;BYMONTH=3;BYDAY=2SU
END:DAYLIGHT
BEGIN:STANDARD
TZOFFSETFROM:-0500
TZOFFSETTO:-0600
TZNAME:CST
DTSTART:19701101T020000
RRULE:FREQ=YEARLY;BYMONTH=11;BYDAY=1SU
END:STANDARD
END:VTIMEZONE
BEGIN:VEVENT
DTSTART;TZID=US/Central:20110329T113000
DTEND;VALUE=DATE-TIME;TZID=US/Central:20110329T123000

DTSTAMP:20260424T110100Z
CREATED:20110310T194600Z
LAST-MODIFIED:20110314T170300Z
UID:20110329T113000-11263@law.utexas.edu
SUMMARY:Professional Business Etiquette
DESCRIPTION:<p>In today’s competitive business arenas, etiquette and protocol intelligence will distinguish you from the crowd and give you an edge over the competition. <a href="http://austinprotocol.com/index/about/">Etiquette consultant and attorney Sharon Schweitzer</a> from <a href="http://www.facebook.com/protocolww">Protocol &amp; Etiquette Worldwide</a> in Austin will discuss how to make a professional introduction, world-class handshakes, interviewing skills, business card protocol etiquette, and more. Boxed lunches will be served and are generously sponsored by <a href="http://www.lockelord.com/">Locke Lord Bissell &amp; Liddell</a>. RSVP by Monday, March 28, on <a href="https://law-utexas-csm.symplicity.com/students/">UT Law Symplicity</a> by selecting the “Events” tab.</p>\n\nIf you need an accommodation to participate in this event, please contact the event sponsor or the Texas Law Special Events Office at specialevents@law.utexas.edu no later than seven business days prior to the event.
X-ALT-DESC;FMTTYPE=text/html:<p>In today’s competitive business arenas, etiquette and protocol intelligence will distinguish you from the crowd and give you an edge over the competition. <a href="http://austinprotocol.com/index/about/">Etiquette consultant and attorney Sharon Schweitzer</a> from <a href="http://www.facebook.com/protocolww">Protocol &amp; Etiquette Worldwide</a> in Austin will discuss how to make a professional introduction, world-class handshakes, interviewing skills, business card protocol etiquette, and more. Boxed lunches will be served and are generously sponsored by <a href="http://www.lockelord.com/">Locke Lord Bissell &amp; Liddell</a>. RSVP by Monday, March 28, on <a href="https://law-utexas-csm.symplicity.com/students/">UT Law Symplicity</a> by selecting the “Events” tab.</p><p>If you need an accommodation to participate in this event, please contact the event
                                          event sponsor or the Texas Law Special Events Office at <a href="mailto:specialevents@law.utexas.edu">specialevents@law.utexas.edu</a> no later than seven business days prior to the event.</p>
CATEGORIES:Workshop / Training Program
LOCATION:TNH 2.114 - Francis Auditorium
URL:http://law.utexas.edu/calendar/2011/03/29/11263/
CLASS:PUBLIC
STATUS:CONFIRMED
COMMENT:Please contact Amanda Watkins at <a href="mailto:awatkins@law.utexas.edu">awatkins@law.utexas.edu</a> or 512-232-6056 in the CSO.
END:VEVENT
END:VCALENDAR