BEGIN:VCALENDAR
VERSION:2.0
PRODID:-//UNIVERSITY OF TEXAS SCHOOL OF LAW//NONSGML Events Calendar v1.0//EN
X-WR-TIMEZONE:America/Chicago
BEGIN:VTIMEZONE
TZID:US/Central
X-LIC-LOCATION:America/Chicago
BEGIN:DAYLIGHT
TZOFFSETFROM:-0600
TZOFFSETTO:-0500
TZNAME:CDT
DTSTART:19700308T020000
RRULE:FREQ=YEARLY;BYMONTH=3;BYDAY=2SU
END:DAYLIGHT
BEGIN:STANDARD
TZOFFSETFROM:-0500
TZOFFSETTO:-0600
TZNAME:CST
DTSTART:19701101T020000
RRULE:FREQ=YEARLY;BYMONTH=11;BYDAY=1SU
END:STANDARD
END:VTIMEZONE
BEGIN:VEVENT
DTSTART;TZID=US/Central:20110329T160000
DTEND;VALUE=DATE-TIME;TZID=US/Central:20110329T170000

DTSTAMP:20260424T110100Z
CREATED:20110323T215100Z
LAST-MODIFIED:20110324T143500Z
UID:20110329T160000-11374@law.utexas.edu
SUMMARY:Law Students for the Arts Speaker Series
DESCRIPTION:<p>Erin Rodgers, an attorney with Texas Accountants and Lawyers for the Arts (TALA), and UT Law alum John Spong, who now writes for Texas Monthly Magazine, will be speaking on their careers in law and the arts. Professor David Sokolow will moderate the panel.</p>
  <p>TALA is a non-profit organization that helps meet the legal and accounting needs of artists and arts nonprofits across the State of Texas by matching low-income artists and small budget arts nonprofits with volunteer attorneys and accountants to assist with arts-related legal and financial matters.</p>
  <p>In 2010, John Spong was nominated for a National Magazine Award in the category of Leisure Interests for his story about Texas dance halls, “Step Right Up." He has been a finalist for the Texas Institute of Letters’ O. Henry Award for Magazine Journalism four times, which he won in 2006 for “The Good Book and the Bad Book” and again in 2010 for “Holding Garmsir.” He was also named 2005 Writer of the Year by the City and Regional Magazine Association.</p>\n\nIf you need an accommodation to participate in this event, please contact the event sponsor or the Texas Law Special Events Office at specialevents@law.utexas.edu no later than seven business days prior to the event.
X-ALT-DESC;FMTTYPE=text/html:<p>Erin Rodgers, an attorney with Texas Accountants and Lawyers for the Arts (TALA), and UT Law alum John Spong, who now writes for Texas Monthly Magazine, will be speaking on their careers in law and the arts. Professor David Sokolow will moderate the panel.</p>
  <p>TALA is a non-profit organization that helps meet the legal and accounting needs of artists and arts nonprofits across the State of Texas by matching low-income artists and small budget arts nonprofits with volunteer attorneys and accountants to assist with arts-related legal and financial matters.</p>
  <p>In 2010, John Spong was nominated for a National Magazine Award in the category of Leisure Interests for his story about Texas dance halls, “Step Right Up." He has been a finalist for the Texas Institute of Letters’ O. Henry Award for Magazine Journalism four times, which he won in 2006 for “The Good Book and the Bad Book” and again in 2010 for “Holding Garmsir.” He was also named 2005 Writer of the Year by the City and Regional Magazine Association.</p><p>If you need an accommodation to participate in this event, please contact the event
                                          event sponsor or the Texas Law Special Events Office at <a href="mailto:specialevents@law.utexas.edu">specialevents@law.utexas.edu</a> no later than seven business days prior to the event.</p>
CATEGORIES:Panel Discussion / Speaker Series
LOCATION:CCJ 2.306 - Eidman Courtroom
URL:http://law.utexas.edu/calendar/2011/03/29/11374/
CLASS:PUBLIC
STATUS:CONFIRMED
COMMENT:email Katherine Raymond at keraymond23@gmail.com
END:VEVENT
END:VCALENDAR