BEGIN:VCALENDAR
VERSION:2.0
PRODID:-//UNIVERSITY OF TEXAS SCHOOL OF LAW//NONSGML Events Calendar v1.0//EN
X-WR-TIMEZONE:America/Chicago
BEGIN:VTIMEZONE
TZID:US/Central
X-LIC-LOCATION:America/Chicago
BEGIN:DAYLIGHT
TZOFFSETFROM:-0600
TZOFFSETTO:-0500
TZNAME:CDT
DTSTART:19700308T020000
RRULE:FREQ=YEARLY;BYMONTH=3;BYDAY=2SU
END:DAYLIGHT
BEGIN:STANDARD
TZOFFSETFROM:-0500
TZOFFSETTO:-0600
TZNAME:CST
DTSTART:19701101T020000
RRULE:FREQ=YEARLY;BYMONTH=11;BYDAY=1SU
END:STANDARD
END:VTIMEZONE
BEGIN:VEVENT
DTSTART;TZID=US/Central:20110329T134500
DTEND;VALUE=DATE-TIME;TZID=US/Central:20110329T144500

DTSTAMP:20260424T110000Z
CREATED:20110326T020100Z
LAST-MODIFIED:20110327T192500Z
UID:20110329T134500-11396@law.utexas.edu
SUMMARY:PILA &amp; ACS Student Discussion on Clinics
DESCRIPTION:<p>Come get a student perspective on clinics offered at UT, including: what to expect, how to choose a clinic that's right for you, and how to be successful in your clinic. This event is sponsored by the Public Interest Law Association and the American Constitution society. Lunch will be provided.</p>
  <p>March 29, 2011 from 1:40PM to 2:40PM
  Fleming Room, at George's Cafe
  Food provided
  </p>\n\nIf you need an accommodation to participate in this event, please contact the event sponsor or the Texas Law Special Events Office at specialevents@law.utexas.edu no later than seven business days prior to the event.
X-ALT-DESC;FMTTYPE=text/html:<p>Come get a student perspective on clinics offered at UT, including: what to expect, how to choose a clinic that's right for you, and how to be successful in your clinic. This event is sponsored by the Public Interest Law Association and the American Constitution society. Lunch will be provided.</p>
  <p>March 29, 2011 from 1:40PM to 2:40PM
  Fleming Room, at George's Cafe
  Food provided
  </p><p>If you need an accommodation to participate in this event, please contact the event
                                          event sponsor or the Texas Law Special Events Office at <a href="mailto:specialevents@law.utexas.edu">specialevents@law.utexas.edu</a> no later than seven business days prior to the event.</p>

LOCATION:
URL:http://law.utexas.edu/calendar/2011/03/29/11396/
CLASS:PUBLIC
STATUS:CONFIRMED

END:VEVENT
END:VCALENDAR