BEGIN:VCALENDAR
VERSION:2.0
PRODID:-//UNIVERSITY OF TEXAS SCHOOL OF LAW//NONSGML Events Calendar v1.0//EN
X-WR-TIMEZONE:America/Chicago
BEGIN:VTIMEZONE
TZID:US/Central
X-LIC-LOCATION:America/Chicago
BEGIN:DAYLIGHT
TZOFFSETFROM:-0600
TZOFFSETTO:-0500
TZNAME:CDT
DTSTART:19700308T020000
RRULE:FREQ=YEARLY;BYMONTH=3;BYDAY=2SU
END:DAYLIGHT
BEGIN:STANDARD
TZOFFSETFROM:-0500
TZOFFSETTO:-0600
TZNAME:CST
DTSTART:19701101T020000
RRULE:FREQ=YEARLY;BYMONTH=11;BYDAY=1SU
END:STANDARD
END:VTIMEZONE
BEGIN:VEVENT
DTSTART;TZID=US/Central:20110330T153000
DTEND;VALUE=DATE-TIME;TZID=US/Central:20110330T183000

DTSTAMP:20260424T110000Z
CREATED:20110223T234400Z
LAST-MODIFIED:20110223T234600Z
UID:20110330T153000-11066@law.utexas.edu
SUMMARY:3L Early Bar Prep - Criminal Law
DESCRIPTION:<p>Early Bar Prep continues with Criminal Law. Remember the difference between first degree murder, second degree murder, manslaughter, involuntary manslaughter and felony murder?  How about M/Naghten Rule?  Prof. Chad Noreuil from ASU College of Law will help you remember.</p>
  <p>At the beginning of this session (and each subsequent session), we'll review the practice MBE questions handed out the week before. Hear why answers are right/wrong to sometimes tricky MBE questions.</p>
  <p>After the session, you may log on to an MBE question bank to test your understanding - come find out how to get access and what you should be doing now to help guarantee your future bar success!</p>\n\nIf you need an accommodation to participate in this event, please contact the event sponsor or the Texas Law Special Events Office at specialevents@law.utexas.edu no later than seven business days prior to the event.
X-ALT-DESC;FMTTYPE=text/html:<p>Early Bar Prep continues with Criminal Law. Remember the difference between first degree murder, second degree murder, manslaughter, involuntary manslaughter and felony murder?  How about M/Naghten Rule?  Prof. Chad Noreuil from ASU College of Law will help you remember.</p>
  <p>At the beginning of this session (and each subsequent session), we'll review the practice MBE questions handed out the week before. Hear why answers are right/wrong to sometimes tricky MBE questions.</p>
  <p>After the session, you may log on to an MBE question bank to test your understanding - come find out how to get access and what you should be doing now to help guarantee your future bar success!</p><p>If you need an accommodation to participate in this event, please contact the event
                                          event sponsor or the Texas Law Special Events Office at <a href="mailto:specialevents@law.utexas.edu">specialevents@law.utexas.edu</a> no later than seven business days prior to the event.</p>
CATEGORIES:Workshop / Training Program
LOCATION:TNH 2.137 - Gayle Classroom
URL:http://law.utexas.edu/calendar/2011/03/30/11066/
CLASS:PUBLIC
STATUS:CONFIRMED

END:VEVENT
END:VCALENDAR