BEGIN:VCALENDAR
VERSION:2.0
PRODID:-//UNIVERSITY OF TEXAS SCHOOL OF LAW//NONSGML Events Calendar v1.0//EN
X-WR-TIMEZONE:America/Chicago
BEGIN:VTIMEZONE
TZID:US/Central
X-LIC-LOCATION:America/Chicago
BEGIN:DAYLIGHT
TZOFFSETFROM:-0600
TZOFFSETTO:-0500
TZNAME:CDT
DTSTART:19700308T020000
RRULE:FREQ=YEARLY;BYMONTH=3;BYDAY=2SU
END:DAYLIGHT
BEGIN:STANDARD
TZOFFSETFROM:-0500
TZOFFSETTO:-0600
TZNAME:CST
DTSTART:19701101T020000
RRULE:FREQ=YEARLY;BYMONTH=11;BYDAY=1SU
END:STANDARD
END:VTIMEZONE
BEGIN:VEVENT
DTSTART;TZID=US/Central:20110330T083000
DTEND;VALUE=DATE-TIME;TZID=US/Central:20110330T093000

DTSTAMP:20260424T110000Z
CREATED:20110316T215800Z
LAST-MODIFIED:20110329T202900Z
UID:20110330T083000-11343@law.utexas.edu
SUMMARY:Practising Law Institute - Patent Law
DESCRIPTION:<p><a href="http://www.pli.edu">Practising Law Institute (PLI)</a> invites you to a presentation by John M. White, Academic Director of PLI’s Patent Bar Review. Topics for discussion include the latest info on the Patent Bar Exam and who can take it; how it works, now that it's on computer; when you should take it (you only need an undergraduate degree to sit for it); how and when the new Rules changes coming out of the Patent Office will impact the Exam, and; recommendations on when and how to study for the Patent Exam. Scholarships to PLI's other IP programs will also be discussed. UT Law students with an undergraduate degree (or at least about two years of coursework) in engineering, computer sciences or the hard sciences (chemistry, biology, physics, some related fields), who are interested in becoming a Patent Agent or Attorney, are invited to attend. RSVP by Tuesday, March 29, on <a href="https://law-utexas-csm.symplicity.com/students/">UT Law Symplicity</a> by selecting the “Events” tab.</p>\n\nIf you need an accommodation to participate in this event, please contact the event sponsor or the Texas Law Special Events Office at specialevents@law.utexas.edu no later than seven business days prior to the event.
X-ALT-DESC;FMTTYPE=text/html:<p><a href="http://www.pli.edu">Practising Law Institute (PLI)</a> invites you to a presentation by John M. White, Academic Director of PLI’s Patent Bar Review. Topics for discussion include the latest info on the Patent Bar Exam and who can take it; how it works, now that it's on computer; when you should take it (you only need an undergraduate degree to sit for it); how and when the new Rules changes coming out of the Patent Office will impact the Exam, and; recommendations on when and how to study for the Patent Exam. Scholarships to PLI's other IP programs will also be discussed. UT Law students with an undergraduate degree (or at least about two years of coursework) in engineering, computer sciences or the hard sciences (chemistry, biology, physics, some related fields), who are interested in becoming a Patent Agent or Attorney, are invited to attend. RSVP by Tuesday, March 29, on <a href="https://law-utexas-csm.symplicity.com/students/">UT Law Symplicity</a> by selecting the “Events” tab.</p><p>If you need an accommodation to participate in this event, please contact the event
                                          event sponsor or the Texas Law Special Events Office at <a href="mailto:specialevents@law.utexas.edu">specialevents@law.utexas.edu</a> no later than seven business days prior to the event.</p>
CATEGORIES:Workshop / Training Program
LOCATION:CCJ 2.306 - Eidman Courtroom
URL:http://law.utexas.edu/calendar/2011/03/30/11343/
CLASS:PUBLIC
STATUS:CONFIRMED
COMMENT:Please contact Deb Freeman at <a href="mailto:dfreeman@law.utexas.edu">dfreeman@law.utexas.edu</a> in the CSO.
END:VEVENT
END:VCALENDAR