BEGIN:VCALENDAR
VERSION:2.0
PRODID:-//UNIVERSITY OF TEXAS SCHOOL OF LAW//NONSGML Events Calendar v1.0//EN
X-WR-TIMEZONE:America/Chicago
BEGIN:VTIMEZONE
TZID:US/Central
X-LIC-LOCATION:America/Chicago
BEGIN:DAYLIGHT
TZOFFSETFROM:-0600
TZOFFSETTO:-0500
TZNAME:CDT
DTSTART:19700308T020000
RRULE:FREQ=YEARLY;BYMONTH=3;BYDAY=2SU
END:DAYLIGHT
BEGIN:STANDARD
TZOFFSETFROM:-0500
TZOFFSETTO:-0600
TZNAME:CST
DTSTART:19701101T020000
RRULE:FREQ=YEARLY;BYMONTH=11;BYDAY=1SU
END:STANDARD
END:VTIMEZONE
BEGIN:VEVENT
DTSTART;TZID=US/Central:20110331T160000
DTEND;VALUE=DATE-TIME;TZID=US/Central:20110331T170000

DTSTAMP:20260424T110100Z
CREATED:20110114T023200Z
LAST-MODIFIED:20110328T140900Z
UID:20110331T160000-10273@law.utexas.edu
SUMMARY:Judicial Clerkship Workshop: Keynote
DESCRIPTION:<p>The Judicial Clerkship Advisors encourage 2Ls and 3Ls applying for judicial clerkships this year and 1Ls hoping to apply next summer to attend the Judicial Clerkship Workshop, which will feature several panels presented by a variety of federal judges from around the country discussing judicial clerkships with their courts. Judge Timothy Stanceu from the U.S. Court of International Trade will kick things off with a keynote address about why clerking is a good career move. </p>\n\nIf you need an accommodation to participate in this event, please contact the event sponsor or the Texas Law Special Events Office at specialevents@law.utexas.edu no later than seven business days prior to the event.
X-ALT-DESC;FMTTYPE=text/html:<p>The Judicial Clerkship Advisors encourage 2Ls and 3Ls applying for judicial clerkships this year and 1Ls hoping to apply next summer to attend the Judicial Clerkship Workshop, which will feature several panels presented by a variety of federal judges from around the country discussing judicial clerkships with their courts. Judge Timothy Stanceu from the U.S. Court of International Trade will kick things off with a keynote address about why clerking is a good career move. </p><p>If you need an accommodation to participate in this event, please contact the event
                                          event sponsor or the Texas Law Special Events Office at <a href="mailto:specialevents@law.utexas.edu">specialevents@law.utexas.edu</a> no later than seven business days prior to the event.</p>
CATEGORIES:Workshop / Training Program
LOCATION:CCJ 2.306 - Eidman Courtroom
URL:http://law.utexas.edu/calendar/2011/03/31/10273/
CLASS:PUBLIC
STATUS:CONFIRMED
COMMENT:Please contact Remi Ratliff at <a href="mailto:rrattliff@law.utexas.edu">rratliff@law.utexas.edu</a> in the CSO.
END:VEVENT
END:VCALENDAR