BEGIN:VCALENDAR
VERSION:2.0
PRODID:-//UNIVERSITY OF TEXAS SCHOOL OF LAW//NONSGML Events Calendar v1.0//EN
X-WR-TIMEZONE:America/Chicago
BEGIN:VTIMEZONE
TZID:US/Central
X-LIC-LOCATION:America/Chicago
BEGIN:DAYLIGHT
TZOFFSETFROM:-0600
TZOFFSETTO:-0500
TZNAME:CDT
DTSTART:19700308T020000
RRULE:FREQ=YEARLY;BYMONTH=3;BYDAY=2SU
END:DAYLIGHT
BEGIN:STANDARD
TZOFFSETFROM:-0500
TZOFFSETTO:-0600
TZNAME:CST
DTSTART:19701101T020000
RRULE:FREQ=YEARLY;BYMONTH=11;BYDAY=1SU
END:STANDARD
END:VTIMEZONE
BEGIN:VEVENT
DTSTART;TZID=US/Central:20110331T123000
DTEND;VALUE=DATE-TIME;TZID=US/Central:20110331T133000

DTSTAMP:20260424T110100Z
CREATED:20110321T211600Z
LAST-MODIFIED:20110331T134000Z
UID:20110331T123000-11358@law.utexas.edu
SUMMARY:Dan Graham, BuildASign.com
DESCRIPTION:<p>Thinking about a non-practicing career? Be a part of the new student group, Beyond the Bar, as they host Dan Graham ‘05, CEO, <a href="http://www.buildasign.com">BuildASign.com</a>. Graham will discuss how he started his business and how you may use your J.D. in a nonpracticing career. Students interested in becoming part of the leadership team for the student group should contact Angelica Salinas Evans in the CSO at <a href="mailto:aevans@law.utexas.edu">aevans@law.utexas.edu</a>. Lunch will be served. RSVP by Wednesday, March 30, on <a href="https://law-utexas-csm.symplicity.com/students/">UT Law Symplicity</a> by selecting the 'Events' tab.</p>\n\nIf you need an accommodation to participate in this event, please contact the event sponsor or the Texas Law Special Events Office at specialevents@law.utexas.edu no later than seven business days prior to the event.
X-ALT-DESC;FMTTYPE=text/html:<p>Thinking about a non-practicing career? Be a part of the new student group, Beyond the Bar, as they host Dan Graham ‘05, CEO, <a href="http://www.buildasign.com">BuildASign.com</a>. Graham will discuss how he started his business and how you may use your J.D. in a nonpracticing career. Students interested in becoming part of the leadership team for the student group should contact Angelica Salinas Evans in the CSO at <a href="mailto:aevans@law.utexas.edu">aevans@law.utexas.edu</a>. Lunch will be served. RSVP by Wednesday, March 30, on <a href="https://law-utexas-csm.symplicity.com/students/">UT Law Symplicity</a> by selecting the 'Events' tab.</p><p>If you need an accommodation to participate in this event, please contact the event
                                          event sponsor or the Texas Law Special Events Office at <a href="mailto:specialevents@law.utexas.edu">specialevents@law.utexas.edu</a> no later than seven business days prior to the event.</p>
CATEGORIES:Panel Discussion / Speaker Series
LOCATION:Career Services Interview Suite (TNH 3.122)
URL:http://law.utexas.edu/calendar/2011/03/31/11358/
CLASS:PUBLIC
STATUS:CONFIRMED
COMMENT:Please contact Angelica Salinas Evans at <a href="mailto:aevans@law.utexas.edu">aevans@law.utexas.edu</a> in the CSO.
END:VEVENT
END:VCALENDAR