BEGIN:VCALENDAR
VERSION:2.0
PRODID:-//UNIVERSITY OF TEXAS SCHOOL OF LAW//NONSGML Events Calendar v1.0//EN
X-WR-TIMEZONE:America/Chicago
BEGIN:VTIMEZONE
TZID:US/Central
X-LIC-LOCATION:America/Chicago
BEGIN:DAYLIGHT
TZOFFSETFROM:-0600
TZOFFSETTO:-0500
TZNAME:CDT
DTSTART:19700308T020000
RRULE:FREQ=YEARLY;BYMONTH=3;BYDAY=2SU
END:DAYLIGHT
BEGIN:STANDARD
TZOFFSETFROM:-0500
TZOFFSETTO:-0600
TZNAME:CST
DTSTART:19701101T020000
RRULE:FREQ=YEARLY;BYMONTH=11;BYDAY=1SU
END:STANDARD
END:VTIMEZONE
BEGIN:VEVENT
DTSTART;TZID=US/Central:20110331T123000
DTEND;VALUE=DATE-TIME;TZID=US/Central:20110331T133000

DTSTAMP:20260424T110100Z
CREATED:20110324T001700Z
LAST-MODIFIED:20110324T150000Z
UID:20110331T123000-11375@law.utexas.edu
SUMMARY:Health Care Act and the Constitution
DESCRIPTION:<p>Come join ACS for a lunch discussion on the constitutionality of the Affordable Health Care Act and how to reform the broken U.S. health care system. 
   
  Internationally renowned constitutional law professors and scholars Jack Balkin - Yale Law professor and editor of leading Constitutional law blog Balkinization - and UT Professor William Forbath expert in the area of social and economic rights. Both helped create The Constitution in 2020, ACS vision for constitutional right and the direction of the U.S. courts. </p>
  <p>Thursday, March 31st
  12:30pm,
  Rm. 2.139
  Lunch Provided!</p>\n\nIf you need an accommodation to participate in this event, please contact the event sponsor or the Texas Law Special Events Office at specialevents@law.utexas.edu no later than seven business days prior to the event.
X-ALT-DESC;FMTTYPE=text/html:<p>Come join ACS for a lunch discussion on the constitutionality of the Affordable Health Care Act and how to reform the broken U.S. health care system. 
   
  Internationally renowned constitutional law professors and scholars Jack Balkin - Yale Law professor and editor of leading Constitutional law blog Balkinization - and UT Professor William Forbath expert in the area of social and economic rights. Both helped create The Constitution in 2020, ACS vision for constitutional right and the direction of the U.S. courts. </p>
  <p>Thursday, March 31st
  12:30pm,
  Rm. 2.139
  Lunch Provided!</p><p>If you need an accommodation to participate in this event, please contact the event
                                          event sponsor or the Texas Law Special Events Office at <a href="mailto:specialevents@law.utexas.edu">specialevents@law.utexas.edu</a> no later than seven business days prior to the event.</p>

LOCATION:TNH 2.139 - Wilson Classroom
URL:http://law.utexas.edu/calendar/2011/03/31/11375/
CLASS:PUBLIC
STATUS:CONFIRMED

END:VEVENT
END:VCALENDAR