BEGIN:VCALENDAR
VERSION:2.0
PRODID:-//UNIVERSITY OF TEXAS SCHOOL OF LAW//NONSGML Events Calendar v1.0//EN
X-WR-TIMEZONE:America/Chicago
BEGIN:VTIMEZONE
TZID:US/Central
X-LIC-LOCATION:America/Chicago
BEGIN:DAYLIGHT
TZOFFSETFROM:-0600
TZOFFSETTO:-0500
TZNAME:CDT
DTSTART:19700308T020000
RRULE:FREQ=YEARLY;BYMONTH=3;BYDAY=2SU
END:DAYLIGHT
BEGIN:STANDARD
TZOFFSETFROM:-0500
TZOFFSETTO:-0600
TZNAME:CST
DTSTART:19701101T020000
RRULE:FREQ=YEARLY;BYMONTH=11;BYDAY=1SU
END:STANDARD
END:VTIMEZONE
BEGIN:VEVENT
DTSTART;TZID=US/Central:20110517T113000
DTEND;VALUE=DATE-TIME;TZID=US/Central:20110517T123000

DTSTAMP:20260424T074300Z
CREATED:20110401T183400Z
LAST-MODIFIED:20110511T143700Z
UID:20110517T113000-11433@law.utexas.edu
SUMMARY:Resource Update for Faculty
DESCRIPTION:<p>In preparation for the summer, the Tarlton Law Library is offering tips for faculty on accessing electronic journals through our catalog, as well as demonstrating other databases and journals available through UT General Libraries.  We will also be discussing new electronic resources available through the Library.</p>\n\nIf you need an accommodation to participate in this event, please contact the event sponsor or the Texas Law Special Events Office at specialevents@law.utexas.edu no later than seven business days prior to the event.
X-ALT-DESC;FMTTYPE=text/html:<p>In preparation for the summer, the Tarlton Law Library is offering tips for faculty on accessing electronic journals through our catalog, as well as demonstrating other databases and journals available through UT General Libraries.  We will also be discussing new electronic resources available through the Library.</p><p>If you need an accommodation to participate in this event, please contact the event
                                          event sponsor or the Texas Law Special Events Office at <a href="mailto:specialevents@law.utexas.edu">specialevents@law.utexas.edu</a> no later than seven business days prior to the event.</p>
CATEGORIES:Workshop / Training Program
LOCATION:TNH 2.111 - Sheffield-Massey Room
URL:http://law.utexas.edu/calendar/2011/05/17/11433/
CLASS:PUBLIC
STATUS:CONFIRMED

END:VEVENT
END:VCALENDAR