BEGIN:VCALENDAR
VERSION:2.0
PRODID:-//UNIVERSITY OF TEXAS SCHOOL OF LAW//NONSGML Events Calendar v1.0//EN
X-WR-TIMEZONE:America/Chicago
BEGIN:VTIMEZONE
TZID:US/Central
X-LIC-LOCATION:America/Chicago
BEGIN:DAYLIGHT
TZOFFSETFROM:-0600
TZOFFSETTO:-0500
TZNAME:CDT
DTSTART:19700308T020000
RRULE:FREQ=YEARLY;BYMONTH=3;BYDAY=2SU
END:DAYLIGHT
BEGIN:STANDARD
TZOFFSETFROM:-0500
TZOFFSETTO:-0600
TZNAME:CST
DTSTART:19701101T020000
RRULE:FREQ=YEARLY;BYMONTH=11;BYDAY=1SU
END:STANDARD
END:VTIMEZONE
BEGIN:VEVENT
DTSTART;TZID=US/Central:20110518T140000
DTEND;VALUE=DATE-TIME;TZID=US/Central:20110518T150000

DTSTAMP:20260424T065200Z
CREATED:20110502T173100Z
LAST-MODIFIED:20110502T173300Z
UID:20110518T140000-11812@law.utexas.edu
SUMMARY:RA &amp; Research Training
DESCRIPTION:<p>Are you working as an RA for a law school professor this summer?  Are you interested in working as an RA in the future?  Just want to brush up on your research skills?  Tarlton Law Library is offering special research training for law students on Wednesday, May 18 at 2pm in TNH 3.126.  We will explain how to find e-journals and link directly to their text though our TALLONS catalog, and will highlight important electronic journals and databases that are offered through the UT General Libraries.  We will also go over administrative details like how to check out materials for faculty from various UT libraries and interlibrary loan and answer any questions you may have.  Please RSVP to Melissa Bernstein to reserve your spot.</p>\n\nIf you need an accommodation to participate in this event, please contact the event sponsor or the Texas Law Special Events Office at specialevents@law.utexas.edu no later than seven business days prior to the event.
X-ALT-DESC;FMTTYPE=text/html:<p>Are you working as an RA for a law school professor this summer?  Are you interested in working as an RA in the future?  Just want to brush up on your research skills?  Tarlton Law Library is offering special research training for law students on Wednesday, May 18 at 2pm in TNH 3.126.  We will explain how to find e-journals and link directly to their text though our TALLONS catalog, and will highlight important electronic journals and databases that are offered through the UT General Libraries.  We will also go over administrative details like how to check out materials for faculty from various UT libraries and interlibrary loan and answer any questions you may have.  Please RSVP to Melissa Bernstein to reserve your spot.</p><p>If you need an accommodation to participate in this event, please contact the event
                                          event sponsor or the Texas Law Special Events Office at <a href="mailto:specialevents@law.utexas.edu">specialevents@law.utexas.edu</a> no later than seven business days prior to the event.</p>
CATEGORIES:Workshop / Training Program
LOCATION:TNH 3.126 - Ratliff Classroom
URL:http://law.utexas.edu/calendar/2011/05/18/11812/
CLASS:PUBLIC
STATUS:CONFIRMED

END:VEVENT
END:VCALENDAR