BEGIN:VCALENDAR
VERSION:2.0
PRODID:-//UNIVERSITY OF TEXAS SCHOOL OF LAW//NONSGML Events Calendar v1.0//EN
X-WR-TIMEZONE:America/Chicago
BEGIN:VTIMEZONE
TZID:US/Central
X-LIC-LOCATION:America/Chicago
BEGIN:DAYLIGHT
TZOFFSETFROM:-0600
TZOFFSETTO:-0500
TZNAME:CDT
DTSTART:19700308T020000
RRULE:FREQ=YEARLY;BYMONTH=3;BYDAY=2SU
END:DAYLIGHT
BEGIN:STANDARD
TZOFFSETFROM:-0500
TZOFFSETTO:-0600
TZNAME:CST
DTSTART:19701101T020000
RRULE:FREQ=YEARLY;BYMONTH=11;BYDAY=1SU
END:STANDARD
END:VTIMEZONE
BEGIN:VEVENT
DTSTART;TZID=US/Central:20110518T180000
DTEND;VALUE=DATE-TIME;TZID=US/Central:20110518T193000

DTSTAMP:20260424T074300Z
CREATED:20110502T193400Z
LAST-MODIFIED:20110502T193400Z
UID:20110518T180000-11814@law.utexas.edu
SUMMARY:3L Graduation Party
DESCRIPTION:<p>The Alumni Association will honor the Law School's 2011 graduates on May 18th at The Dogwood at 6:00 p.m.</p>\n\nIf you need an accommodation to participate in this event, please contact the event sponsor or the Texas Law Special Events Office at specialevents@law.utexas.edu no later than seven business days prior to the event.
X-ALT-DESC;FMTTYPE=text/html:<p>The Alumni Association will honor the Law School's 2011 graduates on May 18th at The Dogwood at 6:00 p.m.</p><p>If you need an accommodation to participate in this event, please contact the event
                                          event sponsor or the Texas Law Special Events Office at <a href="mailto:specialevents@law.utexas.edu">specialevents@law.utexas.edu</a> no later than seven business days prior to the event.</p>
CATEGORIES:Reception

URL:http://law.utexas.edu/calendar/2011/05/18/11814/
CLASS:PUBLIC
STATUS:CONFIRMED

END:VEVENT
END:VCALENDAR