BEGIN:VCALENDAR
VERSION:2.0
PRODID:-//UNIVERSITY OF TEXAS SCHOOL OF LAW//NONSGML Events Calendar v1.0//EN
X-WR-TIMEZONE:America/Chicago
BEGIN:VTIMEZONE
TZID:US/Central
X-LIC-LOCATION:America/Chicago
BEGIN:DAYLIGHT
TZOFFSETFROM:-0600
TZOFFSETTO:-0500
TZNAME:CDT
DTSTART:19700308T020000
RRULE:FREQ=YEARLY;BYMONTH=3;BYDAY=2SU
END:DAYLIGHT
BEGIN:STANDARD
TZOFFSETFROM:-0500
TZOFFSETTO:-0600
TZNAME:CST
DTSTART:19701101T020000
RRULE:FREQ=YEARLY;BYMONTH=11;BYDAY=1SU
END:STANDARD
END:VTIMEZONE
BEGIN:VEVENT
DTSTART;TZID=US/Central:20110630
DTEND;TZID=US/Central:20110701
X-MICROSOFT-CDO-ALLDAYEVENT:TRUE
X-FUNAMBOL-ALLDAY:TRUE
DTSTAMP:20260424T051500Z
CREATED:20101021T200900Z
LAST-MODIFIED:20101021T202000Z
UID:20110630T000000-9225@law.utexas.edu
SUMMARY:TX Feb. '12 Bar Exam Apps Now Accepted
DESCRIPTION:<p><strong>Reminder for 3Ls planning to sit for the Texas February 2012 Bar Exam</strong>: your <a href="http://www.ble.state.tx.us/applications/instate/instate_main.htm">In-State Application to Take the TX Bar Exam</a> may be timely-filed with the Texas Board of Law Examiners (BLE) between today and Aug. 30, 2011.  This deadline is strictly enforced.  A $150 late fee will apply for all applications filed after Aug. 30 and up to the Oct. 30, 2011 absolute postmark deadline.  
  </p>
  <p>Applicants who have not yet filed their <a href="http://www.ble.state.tx.us/applications/declaration/decl_main.htm">Declaration of Intention to Study Law</a> must do so prior to or with their In-State Application.</p>\n\nIf you need an accommodation to participate in this event, please contact the event sponsor or the Texas Law Special Events Office at specialevents@law.utexas.edu no later than seven business days prior to the event.
X-ALT-DESC;FMTTYPE=text/html:<p><strong>Reminder for 3Ls planning to sit for the Texas February 2012 Bar Exam</strong>: your <a href="http://www.ble.state.tx.us/applications/instate/instate_main.htm">In-State Application to Take the TX Bar Exam</a> may be timely-filed with the Texas Board of Law Examiners (BLE) between today and Aug. 30, 2011.  This deadline is strictly enforced.  A $150 late fee will apply for all applications filed after Aug. 30 and up to the Oct. 30, 2011 absolute postmark deadline.  
  </p>
  <p>Applicants who have not yet filed their <a href="http://www.ble.state.tx.us/applications/declaration/decl_main.htm">Declaration of Intention to Study Law</a> must do so prior to or with their In-State Application.</p><p>If you need an accommodation to participate in this event, please contact the event
                                          event sponsor or the Texas Law Special Events Office at <a href="mailto:specialevents@law.utexas.edu">specialevents@law.utexas.edu</a> no later than seven business days prior to the event.</p>


URL:http://law.utexas.edu/calendar/2011/06/30/9225/
CLASS:PUBLIC
STATUS:CONFIRMED

END:VEVENT
END:VCALENDAR