BEGIN:VCALENDAR
VERSION:2.0
PRODID:-//UNIVERSITY OF TEXAS SCHOOL OF LAW//NONSGML Events Calendar v1.0//EN
X-WR-TIMEZONE:America/Chicago
BEGIN:VTIMEZONE
TZID:US/Central
X-LIC-LOCATION:America/Chicago
BEGIN:DAYLIGHT
TZOFFSETFROM:-0600
TZOFFSETTO:-0500
TZNAME:CDT
DTSTART:19700308T020000
RRULE:FREQ=YEARLY;BYMONTH=3;BYDAY=2SU
END:DAYLIGHT
BEGIN:STANDARD
TZOFFSETFROM:-0500
TZOFFSETTO:-0600
TZNAME:CST
DTSTART:19701101T020000
RRULE:FREQ=YEARLY;BYMONTH=11;BYDAY=1SU
END:STANDARD
END:VTIMEZONE
BEGIN:VEVENT
DTSTART;TZID=US/Central:20110712
DTEND;TZID=US/Central:20110713
X-MICROSOFT-CDO-ALLDAYEVENT:TRUE
X-FUNAMBOL-ALLDAY:TRUE
DTSTAMP:20260424T034200Z
CREATED:20110427T203300Z
LAST-MODIFIED:20110427T203300Z
UID:20110712T000000-11725@law.utexas.edu
SUMMARY:Tuition Bills MUST BE PAID by 5:00 p.m.
DESCRIPTION:<p>Tuition bills MUST BE PAID by 5:00 p.m. or second-term summer schedules will be deleted.  </p>
  <p>$25 late registration for students who attend the second-term only.</p>
  <p>Add/drop for students already registered and paid.</p>
  <p>Late registration and Adds/Drops after this date must be handled in the Law School Student Affairs Office, TNH 2.117, 8 a.m.-5 p.m.
  </p>\n\nIf you need an accommodation to participate in this event, please contact the event sponsor or the Texas Law Special Events Office at specialevents@law.utexas.edu no later than seven business days prior to the event.
X-ALT-DESC;FMTTYPE=text/html:<p>Tuition bills MUST BE PAID by 5:00 p.m. or second-term summer schedules will be deleted.  </p>
  <p>$25 late registration for students who attend the second-term only.</p>
  <p>Add/drop for students already registered and paid.</p>
  <p>Late registration and Adds/Drops after this date must be handled in the Law School Student Affairs Office, TNH 2.117, 8 a.m.-5 p.m.
  </p><p>If you need an accommodation to participate in this event, please contact the event
                                          event sponsor or the Texas Law Special Events Office at <a href="mailto:specialevents@law.utexas.edu">specialevents@law.utexas.edu</a> no later than seven business days prior to the event.</p>


URL:http://law.utexas.edu/calendar/2011/07/12/11725/
CLASS:PUBLIC
STATUS:CONFIRMED

END:VEVENT
END:VCALENDAR