BEGIN:VCALENDAR
VERSION:2.0
PRODID:-//UNIVERSITY OF TEXAS SCHOOL OF LAW//NONSGML Events Calendar v1.0//EN
X-WR-TIMEZONE:America/Chicago
BEGIN:VTIMEZONE
TZID:US/Central
X-LIC-LOCATION:America/Chicago
BEGIN:DAYLIGHT
TZOFFSETFROM:-0600
TZOFFSETTO:-0500
TZNAME:CDT
DTSTART:19700308T020000
RRULE:FREQ=YEARLY;BYMONTH=3;BYDAY=2SU
END:DAYLIGHT
BEGIN:STANDARD
TZOFFSETFROM:-0500
TZOFFSETTO:-0600
TZNAME:CST
DTSTART:19701101T020000
RRULE:FREQ=YEARLY;BYMONTH=11;BYDAY=1SU
END:STANDARD
END:VTIMEZONE
BEGIN:VEVENT
DTSTART;TZID=US/Central:20110714
DTEND;TZID=US/Central:20110715
X-MICROSOFT-CDO-ALLDAYEVENT:TRUE
X-FUNAMBOL-ALLDAY:TRUE
DTSTAMP:20260424T034200Z
CREATED:20110428T161600Z
LAST-MODIFIED:20110428T161600Z
UID:20110714T000000-11753@law.utexas.edu
SUMMARY:Summer 2011 Second-Term Fourth Class Day
DESCRIPTION:<p>Fourth class day for second-term; this is the date on which the official enrollment count is taken.  </p>
  <p>Last day to drop a second-term course for a refund. Last day to add a second-term course without permission. </p>
  <p>Add bills due today at 5:00 p.m. To pay your tuition online, go to "My Tuition Bill" at <a href="https://utdirect.utexas.edu/acct/fb/my_tuition/my_tuition_home.WBX">https://utdirect.utexas.edu/acct/fb/my_tuition/my_tuition_home.WBX</a>
  </p>\n\nIf you need an accommodation to participate in this event, please contact the event sponsor or the Texas Law Special Events Office at specialevents@law.utexas.edu no later than seven business days prior to the event.
X-ALT-DESC;FMTTYPE=text/html:<p>Fourth class day for second-term; this is the date on which the official enrollment count is taken.  </p>
  <p>Last day to drop a second-term course for a refund. Last day to add a second-term course without permission. </p>
  <p>Add bills due today at 5:00 p.m. To pay your tuition online, go to "My Tuition Bill" at <a href="https://utdirect.utexas.edu/acct/fb/my_tuition/my_tuition_home.WBX">https://utdirect.utexas.edu/acct/fb/my_tuition/my_tuition_home.WBX</a>
  </p><p>If you need an accommodation to participate in this event, please contact the event
                                          event sponsor or the Texas Law Special Events Office at <a href="mailto:specialevents@law.utexas.edu">specialevents@law.utexas.edu</a> no later than seven business days prior to the event.</p>


URL:http://law.utexas.edu/calendar/2011/07/14/11753/
CLASS:PUBLIC
STATUS:CONFIRMED

END:VEVENT
END:VCALENDAR