BEGIN:VCALENDAR
VERSION:2.0
PRODID:-//UNIVERSITY OF TEXAS SCHOOL OF LAW//NONSGML Events Calendar v1.0//EN
X-WR-TIMEZONE:America/Chicago
BEGIN:VTIMEZONE
TZID:US/Central
X-LIC-LOCATION:America/Chicago
BEGIN:DAYLIGHT
TZOFFSETFROM:-0600
TZOFFSETTO:-0500
TZNAME:CDT
DTSTART:19700308T020000
RRULE:FREQ=YEARLY;BYMONTH=3;BYDAY=2SU
END:DAYLIGHT
BEGIN:STANDARD
TZOFFSETFROM:-0500
TZOFFSETTO:-0600
TZNAME:CST
DTSTART:19701101T020000
RRULE:FREQ=YEARLY;BYMONTH=11;BYDAY=1SU
END:STANDARD
END:VTIMEZONE
BEGIN:VEVENT
DTSTART;TZID=US/Central:20110810T190000
DTEND;VALUE=DATE-TIME;TZID=US/Central:20110810T200000

DTSTAMP:20260424T021200Z
CREATED:20110801T225300Z
LAST-MODIFIED:20110804T172900Z
UID:20110810T190000-12313@law.utexas.edu
SUMMARY:OCI 101 Webinar: Day of OCI/FAQs
DESCRIPTION:<p>CSO staff members will be presenting a live webinar on Wednesday, August 10 at 7:00 p.m. CT (8:00 p.m. ET/5:00 p.m. PT) to answer questions you may have about what to expect during OCI such as finding your interview rooms, handling back-to-back interviews, finding out who the interviewing attorneys will be, interacting with recruiting coordinators, accepting/declining dinner and reception invitations, our interview cancellation policy, and much more. <a href="https://www.utexas.edu/law/career/oci/index.html">Log in to the webinar here.</a></p>\n\nIf you need an accommodation to participate in this event, please contact the event sponsor or the Texas Law Special Events Office at specialevents@law.utexas.edu no later than seven business days prior to the event.
X-ALT-DESC;FMTTYPE=text/html:<p>CSO staff members will be presenting a live webinar on Wednesday, August 10 at 7:00 p.m. CT (8:00 p.m. ET/5:00 p.m. PT) to answer questions you may have about what to expect during OCI such as finding your interview rooms, handling back-to-back interviews, finding out who the interviewing attorneys will be, interacting with recruiting coordinators, accepting/declining dinner and reception invitations, our interview cancellation policy, and much more. <a href="https://www.utexas.edu/law/career/oci/index.html">Log in to the webinar here.</a></p><p>If you need an accommodation to participate in this event, please contact the event
                                          event sponsor or the Texas Law Special Events Office at <a href="mailto:specialevents@law.utexas.edu">specialevents@law.utexas.edu</a> no later than seven business days prior to the event.</p>
CATEGORIES:Workshop / Training Program

URL:http://law.utexas.edu/calendar/2011/08/10/12313/
CLASS:PUBLIC
STATUS:CONFIRMED
COMMENT:Please contact Drew Carls, On-Campus Interview Coordinator, at 512-232-7110 or <a href="mailto:dcarls@law.utexas.edu">dcarls@law.utexas.edu</a>.
END:VEVENT
END:VCALENDAR