BEGIN:VCALENDAR
VERSION:2.0
PRODID:-//UNIVERSITY OF TEXAS SCHOOL OF LAW//NONSGML Events Calendar v1.0//EN
X-WR-TIMEZONE:America/Chicago
BEGIN:VTIMEZONE
TZID:US/Central
X-LIC-LOCATION:America/Chicago
BEGIN:DAYLIGHT
TZOFFSETFROM:-0600
TZOFFSETTO:-0500
TZNAME:CDT
DTSTART:19700308T020000
RRULE:FREQ=YEARLY;BYMONTH=3;BYDAY=2SU
END:DAYLIGHT
BEGIN:STANDARD
TZOFFSETFROM:-0500
TZOFFSETTO:-0600
TZNAME:CST
DTSTART:19701101T020000
RRULE:FREQ=YEARLY;BYMONTH=11;BYDAY=1SU
END:STANDARD
END:VTIMEZONE
BEGIN:VEVENT
DTSTART;TZID=US/Central:20110906T100000
DTEND;TZID=US/Central:20110906T100000

DTSTAMP:20260424T143000Z
CREATED:20110721T145900Z
LAST-MODIFIED:20110902T200900Z
UID:20110906T000000-12233@law.utexas.edu
SUMMARY:EJW Fellowship - CSO Review Deadline
DESCRIPTION:<p><a href="http://www.equaljusticeworks.org/post-grad/equal-justice-works-fellowships">EJW application packets</a> should be received by the CSO, in electronic form, to Nicole Simmons at nsimmons@law.utexas.edu for review. Comments will be returned no later than 5:00 p.m. on Friday, September 9, 2011. </p>\n\nIf you need an accommodation to participate in this event, please contact the event sponsor or the Texas Law Special Events Office at specialevents@law.utexas.edu no later than seven business days prior to the event.
X-ALT-DESC;FMTTYPE=text/html:<p><a href="http://www.equaljusticeworks.org/post-grad/equal-justice-works-fellowships">EJW application packets</a> should be received by the CSO, in electronic form, to Nicole Simmons at nsimmons@law.utexas.edu for review. Comments will be returned no later than 5:00 p.m. on Friday, September 9, 2011. </p><p>If you need an accommodation to participate in this event, please contact the event
                                          event sponsor or the Texas Law Special Events Office at <a href="mailto:specialevents@law.utexas.edu">specialevents@law.utexas.edu</a> no later than seven business days prior to the event.</p>
CATEGORIES:Other

URL:http://law.utexas.edu/calendar/2011/09/06/12233/
CLASS:PUBLIC
STATUS:CONFIRMED
COMMENT:Please contact Nicole Simmons at <a href="mailto:nsimmons@law.utexas.edu">nsimmons@law.utexas.edu</a> or 512-232-1160 in the CSO.
END:VEVENT
END:VCALENDAR