BEGIN:VCALENDAR
VERSION:2.0
PRODID:-//UNIVERSITY OF TEXAS SCHOOL OF LAW//NONSGML Events Calendar v1.0//EN
X-WR-TIMEZONE:America/Chicago
BEGIN:VTIMEZONE
TZID:US/Central
X-LIC-LOCATION:America/Chicago
BEGIN:DAYLIGHT
TZOFFSETFROM:-0600
TZOFFSETTO:-0500
TZNAME:CDT
DTSTART:19700308T020000
RRULE:FREQ=YEARLY;BYMONTH=3;BYDAY=2SU
END:DAYLIGHT
BEGIN:STANDARD
TZOFFSETFROM:-0500
TZOFFSETTO:-0600
TZNAME:CST
DTSTART:19701101T020000
RRULE:FREQ=YEARLY;BYMONTH=11;BYDAY=1SU
END:STANDARD
END:VTIMEZONE
BEGIN:VEVENT
DTSTART;TZID=US/Central:20110908T113000
DTEND;VALUE=DATE-TIME;TZID=US/Central:20110908T123000

DTSTAMP:20260424T143000Z
CREATED:20110822T194800Z
LAST-MODIFIED:20110908T161000Z
UID:20110908T113000-12391@law.utexas.edu
SUMMARY:Foreign Service Careers &amp; Internships
DESCRIPTION:<p><a href="http://www.utexas.edu/lbj/directory/faculty/ron-mcmullen">Ambassador Ronald K. McMullen, Diplomat in Residence at the LBJ School of Public Affairs</a>, will speak about foreign service career opportunities, including those with the U.S. Department of State. This will be an informal event with a chance for you to ask your own questions on the topic.  The State Department offers nearly 900 internships each summer, both in Washington and abroad.  To qualify, applicants must be U.S. citizens and plan to be enrolled in the semester following their internship, i.e., in the Fall 2013 semester.  All are welcomed to apply, including speakers of hard languages, veterans, people with disabilities, ethnic minorities, first-generation college students, women, and individuals who have overcome significant obstacles to get where they are. Lunch will be served. RSVP by Wednesday, September 7, on <a href="https://law-utexas-csm.symplicity.com/students/">UT Law Symplicity</a> by selecting the "Events" tab. If you are a 1L or LL.M. student, you may RSVP to Victor Garcia at <a href="mailto:vgarcia@law.utexas.edu">vgarcia@law.utexas.edu</a>.</p>
  <p><strong>Sign up to meet with the Ambassador McMullen:</strong> Students interested in meeting with Ambassador Robert McMullen one-on-one to discuss opportunities at the U.S. Department of State after his presentation can sign up for a 10-minute meeting. Meetings will be held from 12:40-2:40 p.m. on Thursday, September 8, in the Career Services Interview Suite. Students may sign up on first-come, first-serve basis starting Tuesday, September 6 at 8:00 a.m. </p>\n\nIf you need an accommodation to participate in this event, please contact the event sponsor or the Texas Law Special Events Office at specialevents@law.utexas.edu no later than seven business days prior to the event.
X-ALT-DESC;FMTTYPE=text/html:<p><a href="http://www.utexas.edu/lbj/directory/faculty/ron-mcmullen">Ambassador Ronald K. McMullen, Diplomat in Residence at the LBJ School of Public Affairs</a>, will speak about foreign service career opportunities, including those with the U.S. Department of State. This will be an informal event with a chance for you to ask your own questions on the topic.  The State Department offers nearly 900 internships each summer, both in Washington and abroad.  To qualify, applicants must be U.S. citizens and plan to be enrolled in the semester following their internship, i.e., in the Fall 2013 semester.  All are welcomed to apply, including speakers of hard languages, veterans, people with disabilities, ethnic minorities, first-generation college students, women, and individuals who have overcome significant obstacles to get where they are. Lunch will be served. RSVP by Wednesday, September 7, on <a href="https://law-utexas-csm.symplicity.com/students/">UT Law Symplicity</a> by selecting the "Events" tab. If you are a 1L or LL.M. student, you may RSVP to Victor Garcia at <a href="mailto:vgarcia@law.utexas.edu">vgarcia@law.utexas.edu</a>.</p>
  <p><strong>Sign up to meet with the Ambassador McMullen:</strong> Students interested in meeting with Ambassador Robert McMullen one-on-one to discuss opportunities at the U.S. Department of State after his presentation can sign up for a 10-minute meeting. Meetings will be held from 12:40-2:40 p.m. on Thursday, September 8, in the Career Services Interview Suite. Students may sign up on first-come, first-serve basis starting Tuesday, September 6 at 8:00 a.m. </p><p>If you need an accommodation to participate in this event, please contact the event
                                          event sponsor or the Texas Law Special Events Office at <a href="mailto:specialevents@law.utexas.edu">specialevents@law.utexas.edu</a> no later than seven business days prior to the event.</p>
CATEGORIES:Panel Discussion / Speaker Series
LOCATION:CCJ 2.306 - Eidman Courtroom
URL:http://law.utexas.edu/calendar/2011/09/08/12391/
CLASS:PUBLIC
STATUS:CONFIRMED
COMMENT:Please contact Denyse Demel, Government Career Counselor, at 512-232-1162 or <a href="mailto:ddemel@law.utexas.edu">ddemel@law.utexas.edu</a>.
END:VEVENT
END:VCALENDAR