BEGIN:VCALENDAR
VERSION:2.0
PRODID:-//UNIVERSITY OF TEXAS SCHOOL OF LAW//NONSGML Events Calendar v1.0//EN
X-WR-TIMEZONE:America/Chicago
BEGIN:VTIMEZONE
TZID:US/Central
X-LIC-LOCATION:America/Chicago
BEGIN:DAYLIGHT
TZOFFSETFROM:-0600
TZOFFSETTO:-0500
TZNAME:CDT
DTSTART:19700308T020000
RRULE:FREQ=YEARLY;BYMONTH=3;BYDAY=2SU
END:DAYLIGHT
BEGIN:STANDARD
TZOFFSETFROM:-0500
TZOFFSETTO:-0600
TZNAME:CST
DTSTART:19701101T020000
RRULE:FREQ=YEARLY;BYMONTH=11;BYDAY=1SU
END:STANDARD
END:VTIMEZONE
BEGIN:VEVENT
DTSTART;TZID=US/Central:20110908T173000
DTEND;VALUE=DATE-TIME;TZID=US/Central:20110908T183000

DTSTAMP:20260424T005400Z
CREATED:20110822T210000Z
LAST-MODIFIED:20110822T210200Z
UID:20110908T173000-12394@law.utexas.edu
SUMMARY:CIA Informational Session
DESCRIPTION:<p>The Central Intelligence Agency will be conducting an informational session on Thursday, September 8, and interviewing candidates on Friday, September 9, at the LBJ School. The focus is on postgraduate jobs, but they can provide information on internships. </p>
  <p>If you are interested in interviewing with the CIA, please submit your resume, along with a short statement of interest to let recruiters know what areas you are interested in with the CIA, to Denyse Demel no later than Tuesday, August 30, by 5 p.m. For more information, visit <a href="https://www.cia.gov/careers/index.html">https://www.cia.gov/careers/index.html</a> or see below. </p>
  <p>At the CIA, we provide finished intelligence to policymakers for decisions of national importance. Our analysts are skilled subject-matter experts who study and evaluate information from many sources. From this information, they develop useable and meaningful intelligence assessments for the highest levels of government. CIA analysts monitor and assess foreign political developments, leadership, economic issues, military threats and science and technology.
   
  Analytic Methodologist; College Students - Analytical; Counterintelligence Threat Analyst; Counterterrorism Analyst; Economic Analyst; Intelligence Collection Analyst; Leadership Analyst; Medical/Health Analyst; Military Analyst
  Open Source Officer (Foreign Media Analyst); Pat Roberts Intelligence Scholars Program (PRISP); Political Analyst
  Psychological/Psychiatric Analyst; Science, Technology, and Weapons Analyst; Targeting Analyst; and Technical/Targeting Analyst.</p>
  <p> 
  Requirements:
  1. All applicants must be US citizens
  2. They must be willing to relocate to the Washington DC / Northern VA area
  3. Must undergo an extensive background investigation, polygraph and medical evaluation
  4. For analytical positions they should have at least a 3.0 GPA (higher is preferred)
  </p>\n\nIf you need an accommodation to participate in this event, please contact the event sponsor or the Texas Law Special Events Office at specialevents@law.utexas.edu no later than seven business days prior to the event.
X-ALT-DESC;FMTTYPE=text/html:<p>The Central Intelligence Agency will be conducting an informational session on Thursday, September 8, and interviewing candidates on Friday, September 9, at the LBJ School. The focus is on postgraduate jobs, but they can provide information on internships. </p>
  <p>If you are interested in interviewing with the CIA, please submit your resume, along with a short statement of interest to let recruiters know what areas you are interested in with the CIA, to Denyse Demel no later than Tuesday, August 30, by 5 p.m. For more information, visit <a href="https://www.cia.gov/careers/index.html">https://www.cia.gov/careers/index.html</a> or see below. </p>
  <p>At the CIA, we provide finished intelligence to policymakers for decisions of national importance. Our analysts are skilled subject-matter experts who study and evaluate information from many sources. From this information, they develop useable and meaningful intelligence assessments for the highest levels of government. CIA analysts monitor and assess foreign political developments, leadership, economic issues, military threats and science and technology.
   
  Analytic Methodologist; College Students - Analytical; Counterintelligence Threat Analyst; Counterterrorism Analyst; Economic Analyst; Intelligence Collection Analyst; Leadership Analyst; Medical/Health Analyst; Military Analyst
  Open Source Officer (Foreign Media Analyst); Pat Roberts Intelligence Scholars Program (PRISP); Political Analyst
  Psychological/Psychiatric Analyst; Science, Technology, and Weapons Analyst; Targeting Analyst; and Technical/Targeting Analyst.</p>
  <p> 
  Requirements:
  1. All applicants must be US citizens
  2. They must be willing to relocate to the Washington DC / Northern VA area
  3. Must undergo an extensive background investigation, polygraph and medical evaluation
  4. For analytical positions they should have at least a 3.0 GPA (higher is preferred)
  </p><p>If you need an accommodation to participate in this event, please contact the event
                                          event sponsor or the Texas Law Special Events Office at <a href="mailto:specialevents@law.utexas.edu">specialevents@law.utexas.edu</a> no later than seven business days prior to the event.</p>
CATEGORIES:Other
LOCATION:SRH 3.124 at the LBJ School of Public Affairs
URL:http://law.utexas.edu/calendar/2011/09/08/12394/
CLASS:PUBLIC
STATUS:CONFIRMED
COMMENT:Please contact Denyse Demel, Government Career Counselor, at 512-232-1162 or <a href="mailto:ddemel@law.utexas.edu">ddemel@law.utexas.edu</a>.
END:VEVENT
END:VCALENDAR