BEGIN:VCALENDAR
VERSION:2.0
PRODID:-//UNIVERSITY OF TEXAS SCHOOL OF LAW//NONSGML Events Calendar v1.0//EN
X-WR-TIMEZONE:America/Chicago
BEGIN:VTIMEZONE
TZID:US/Central
X-LIC-LOCATION:America/Chicago
BEGIN:DAYLIGHT
TZOFFSETFROM:-0600
TZOFFSETTO:-0500
TZNAME:CDT
DTSTART:19700308T020000
RRULE:FREQ=YEARLY;BYMONTH=3;BYDAY=2SU
END:DAYLIGHT
BEGIN:STANDARD
TZOFFSETFROM:-0500
TZOFFSETTO:-0600
TZNAME:CST
DTSTART:19701101T020000
RRULE:FREQ=YEARLY;BYMONTH=11;BYDAY=1SU
END:STANDARD
END:VTIMEZONE
BEGIN:VEVENT
DTSTART;TZID=US/Central:20110908T173000
DTEND;VALUE=DATE-TIME;TZID=US/Central:20110908T180000

DTSTAMP:20260424T005400Z
CREATED:20110901T132800Z
LAST-MODIFIED:20110901T132800Z
UID:20110908T173000-12485@law.utexas.edu
SUMMARY:Assault &amp; Flattery Information Session
DESCRIPTION:<p>A&amp;F will be holding an information session Thursday, September 8 at 5:30 in TNH 3.126. We are currently recruiting actors, singers, musicians, and tech crew for our main show, skits, band, and a capella groups.  At the session, we will explain more about how the organization works and the opportunities for involvement.  Pizza will be served.  </p>\n\nIf you need an accommodation to participate in this event, please contact the event sponsor or the Texas Law Special Events Office at specialevents@law.utexas.edu no later than seven business days prior to the event.
X-ALT-DESC;FMTTYPE=text/html:<p>A&amp;F will be holding an information session Thursday, September 8 at 5:30 in TNH 3.126. We are currently recruiting actors, singers, musicians, and tech crew for our main show, skits, band, and a capella groups.  At the session, we will explain more about how the organization works and the opportunities for involvement.  Pizza will be served.  </p><p>If you need an accommodation to participate in this event, please contact the event
                                          event sponsor or the Texas Law Special Events Office at <a href="mailto:specialevents@law.utexas.edu">specialevents@law.utexas.edu</a> no later than seven business days prior to the event.</p>
CATEGORIES:Meeting
LOCATION:TNH 3.126 - Ratliff Classroom
URL:http://law.utexas.edu/calendar/2011/09/08/12485/
CLASS:PUBLIC
STATUS:CONFIRMED

END:VEVENT
END:VCALENDAR