BEGIN:VCALENDAR
VERSION:2.0
PRODID:-//UNIVERSITY OF TEXAS SCHOOL OF LAW//NONSGML Events Calendar v1.0//EN
X-WR-TIMEZONE:America/Chicago
BEGIN:VTIMEZONE
TZID:US/Central
X-LIC-LOCATION:America/Chicago
BEGIN:DAYLIGHT
TZOFFSETFROM:-0600
TZOFFSETTO:-0500
TZNAME:CDT
DTSTART:19700308T020000
RRULE:FREQ=YEARLY;BYMONTH=3;BYDAY=2SU
END:DAYLIGHT
BEGIN:STANDARD
TZOFFSETFROM:-0500
TZOFFSETTO:-0600
TZNAME:CST
DTSTART:19701101T020000
RRULE:FREQ=YEARLY;BYMONTH=11;BYDAY=1SU
END:STANDARD
END:VTIMEZONE
BEGIN:VEVENT
DTSTART;TZID=US/Central:20110913T173000
DTEND;VALUE=DATE-TIME;TZID=US/Central:20110913T183000

DTSTAMP:20260424T005400Z
CREATED:20110822T154000Z
LAST-MODIFIED:20110908T161300Z
UID:20110913T173000-12383@law.utexas.edu
SUMMARY:Public Service Fall Party
DESCRIPTION:<p>The UT Law Career Services Office, William Wayne Justice Center, and Rapoport Center invite you to attend the Sixth Annual Public Service Fall Party. We hope you will come out and share your summer experiences with faculty, staff and other UT Law students. Refreshments will be served.</p>
  <p>If you can come share your experiences with other students, we ask you to RSVP to the CSO by Friday, September 2, on <a href="https://law-utexas-csm.symplicity.com/students/">UT Law Symplicity</a> by selecting the "Events" tab. The CSO will then be in touch with you with further details about your role. </p>
  <p>If you plan to attend, but are not interested in having a formal role, please RSVP on <a href="https://law-utexas-csm.symplicity.com/students/">UT Law Symplicity</a> between September 3-9.  Look for announcements closer to the party date on Law Mail and the <a href="http://www.utexas.edu/law/career/resources/pslistserv.html">UT Law Public Service Listserv</a>.
  </p>\n\nIf you need an accommodation to participate in this event, please contact the event sponsor or the Texas Law Special Events Office at specialevents@law.utexas.edu no later than seven business days prior to the event.
X-ALT-DESC;FMTTYPE=text/html:<p>The UT Law Career Services Office, William Wayne Justice Center, and Rapoport Center invite you to attend the Sixth Annual Public Service Fall Party. We hope you will come out and share your summer experiences with faculty, staff and other UT Law students. Refreshments will be served.</p>
  <p>If you can come share your experiences with other students, we ask you to RSVP to the CSO by Friday, September 2, on <a href="https://law-utexas-csm.symplicity.com/students/">UT Law Symplicity</a> by selecting the "Events" tab. The CSO will then be in touch with you with further details about your role. </p>
  <p>If you plan to attend, but are not interested in having a formal role, please RSVP on <a href="https://law-utexas-csm.symplicity.com/students/">UT Law Symplicity</a> between September 3-9.  Look for announcements closer to the party date on Law Mail and the <a href="http://www.utexas.edu/law/career/resources/pslistserv.html">UT Law Public Service Listserv</a>.
  </p><p>If you need an accommodation to participate in this event, please contact the event
                                          event sponsor or the Texas Law Special Events Office at <a href="mailto:specialevents@law.utexas.edu">specialevents@law.utexas.edu</a> no later than seven business days prior to the event.</p>
CATEGORIES:Reception
LOCATION:Susman Godfrey Atrium, TNH 2.100
URL:http://law.utexas.edu/calendar/2011/09/13/12383/
CLASS:PUBLIC
STATUS:CONFIRMED
COMMENT:Please contact Sandra Valencia, Job Fair Coordinator, at 512-232-1161 or <a href="mailto:svalencia@law.utexas.edu">svalencia@law.utexas.edu</a>.
END:VEVENT
END:VCALENDAR