BEGIN:VCALENDAR
VERSION:2.0
PRODID:-//UNIVERSITY OF TEXAS SCHOOL OF LAW//NONSGML Events Calendar v1.0//EN
X-WR-TIMEZONE:America/Chicago
BEGIN:VTIMEZONE
TZID:US/Central
X-LIC-LOCATION:America/Chicago
BEGIN:DAYLIGHT
TZOFFSETFROM:-0600
TZOFFSETTO:-0500
TZNAME:CDT
DTSTART:19700308T020000
RRULE:FREQ=YEARLY;BYMONTH=3;BYDAY=2SU
END:DAYLIGHT
BEGIN:STANDARD
TZOFFSETFROM:-0500
TZOFFSETTO:-0600
TZNAME:CST
DTSTART:19701101T020000
RRULE:FREQ=YEARLY;BYMONTH=11;BYDAY=1SU
END:STANDARD
END:VTIMEZONE
BEGIN:VEVENT
DTSTART;TZID=US/Central:20110913T113000
DTEND;VALUE=DATE-TIME;TZID=US/Central:20110913T123000

DTSTAMP:20260424T005300Z
CREATED:20110822T183000Z
LAST-MODIFIED:20110908T184700Z
UID:20110913T113000-12387@law.utexas.edu
SUMMARY:ABA Taxation Fellowship Program
DESCRIPTION:<p>The American Bar Association Section of Taxation is pleased to announce that the application period for its <a href="http://www.americanbar.org/groups/taxation/awards/psfellowship.html">Public Service Fellowship program</a> for 2012-14 is now open. Come learn more about the fellowship application process. Lunch will be served and is sponsored by the ABA Section on Taxation. </p>
  <p>Applications must be received by November 1, 2011 to be considered. Applicants selected for interviews will be invited to attend the Section’s meeting in on February 16-18, 2012, and asked to participate in interviews on February 18, 2012. The Section will award up to two Fellowships for 2011-13 to recent law school graduates or judicial clerks. Both LLM and JD candidates are eligible to apply. The proposed employment must involve taxation or administration of tax law and must be with a public-interest, non-profit section 501(c)(3) organization (the “Sponsoring Organization”). Each Fellow is expected to serve a two-year term with the Sponsoring Organization. RSVP by Monday, September 12, on <a href="https://law-utexas-csm.symplicity.com/students/">UT Law Symplicity</a> by selecting the "Events" tab.</p>\n\nIf you need an accommodation to participate in this event, please contact the event sponsor or the Texas Law Special Events Office at specialevents@law.utexas.edu no later than seven business days prior to the event.
X-ALT-DESC;FMTTYPE=text/html:<p>The American Bar Association Section of Taxation is pleased to announce that the application period for its <a href="http://www.americanbar.org/groups/taxation/awards/psfellowship.html">Public Service Fellowship program</a> for 2012-14 is now open. Come learn more about the fellowship application process. Lunch will be served and is sponsored by the ABA Section on Taxation. </p>
  <p>Applications must be received by November 1, 2011 to be considered. Applicants selected for interviews will be invited to attend the Section’s meeting in on February 16-18, 2012, and asked to participate in interviews on February 18, 2012. The Section will award up to two Fellowships for 2011-13 to recent law school graduates or judicial clerks. Both LLM and JD candidates are eligible to apply. The proposed employment must involve taxation or administration of tax law and must be with a public-interest, non-profit section 501(c)(3) organization (the “Sponsoring Organization”). Each Fellow is expected to serve a two-year term with the Sponsoring Organization. RSVP by Monday, September 12, on <a href="https://law-utexas-csm.symplicity.com/students/">UT Law Symplicity</a> by selecting the "Events" tab.</p><p>If you need an accommodation to participate in this event, please contact the event
                                          event sponsor or the Texas Law Special Events Office at <a href="mailto:specialevents@law.utexas.edu">specialevents@law.utexas.edu</a> no later than seven business days prior to the event.</p>
CATEGORIES:Other
LOCATION:CCJ 2.306 - Eidman Courtroom
URL:http://law.utexas.edu/calendar/2011/09/13/12387/
CLASS:PUBLIC
STATUS:CONFIRMED
COMMENT:Please contact Nicole Simmons, Public Interest Career Counselor at 512-232-1160 or <a href="mailto:nsimmons@law.utexas.edu">nsimmons@law.utexas.edu</a>.
END:VEVENT
END:VCALENDAR