BEGIN:VCALENDAR
VERSION:2.0
PRODID:-//UNIVERSITY OF TEXAS SCHOOL OF LAW//NONSGML Events Calendar v1.0//EN
X-WR-TIMEZONE:America/Chicago
BEGIN:VTIMEZONE
TZID:US/Central
X-LIC-LOCATION:America/Chicago
BEGIN:DAYLIGHT
TZOFFSETFROM:-0600
TZOFFSETTO:-0500
TZNAME:CDT
DTSTART:19700308T020000
RRULE:FREQ=YEARLY;BYMONTH=3;BYDAY=2SU
END:DAYLIGHT
BEGIN:STANDARD
TZOFFSETFROM:-0500
TZOFFSETTO:-0600
TZNAME:CST
DTSTART:19701101T020000
RRULE:FREQ=YEARLY;BYMONTH=11;BYDAY=1SU
END:STANDARD
END:VTIMEZONE
BEGIN:VEVENT
DTSTART;TZID=US/Central:20110913T170000
DTEND;VALUE=DATE-TIME;TZID=US/Central:20110913T174500

DTSTAMP:20260424T005400Z
CREATED:20110906T171700Z
LAST-MODIFIED:20110912T135800Z
UID:20110913T170000-12550@law.utexas.edu
SUMMARY:WLC Welcome Meeting &amp; Happy Hour
DESCRIPTION:<p>Come see what the Women's Law Caucus is up to this year next Tuesday, September 13th at 5:00 pm in TNH 2.124. We will host a happy hour at Crown &amp; Anchor immediately following.</p>
  <p>At the meeting, we will review our upcoming events for the year, allow new and returning members to sign up and pay their $35 yearly dues, and give members the opportunity to run for a 1L Rep position. We'll also discuss the significance of joining WLC and provide general info about the organization.  </p>
  <p>2Ls &amp; 3Ls - we have numerous opportunities that will benefit you in your professional search and career, so come out and join us!</p>\n\nIf you need an accommodation to participate in this event, please contact the event sponsor or the Texas Law Special Events Office at specialevents@law.utexas.edu no later than seven business days prior to the event.
X-ALT-DESC;FMTTYPE=text/html:<p>Come see what the Women's Law Caucus is up to this year next Tuesday, September 13th at 5:00 pm in TNH 2.124. We will host a happy hour at Crown &amp; Anchor immediately following.</p>
  <p>At the meeting, we will review our upcoming events for the year, allow new and returning members to sign up and pay their $35 yearly dues, and give members the opportunity to run for a 1L Rep position. We'll also discuss the significance of joining WLC and provide general info about the organization.  </p>
  <p>2Ls &amp; 3Ls - we have numerous opportunities that will benefit you in your professional search and career, so come out and join us!</p><p>If you need an accommodation to participate in this event, please contact the event
                                          event sponsor or the Texas Law Special Events Office at <a href="mailto:specialevents@law.utexas.edu">specialevents@law.utexas.edu</a> no later than seven business days prior to the event.</p>
CATEGORIES:Meeting
LOCATION:TNH 2.124 - Reaud Classroom
URL:http://law.utexas.edu/calendar/2011/09/13/12550/
CLASS:PUBLIC
STATUS:CONFIRMED

END:VEVENT
END:VCALENDAR