BEGIN:VCALENDAR
VERSION:2.0
PRODID:-//UNIVERSITY OF TEXAS SCHOOL OF LAW//NONSGML Events Calendar v1.0//EN
X-WR-TIMEZONE:America/Chicago
BEGIN:VTIMEZONE
TZID:US/Central
X-LIC-LOCATION:America/Chicago
BEGIN:DAYLIGHT
TZOFFSETFROM:-0600
TZOFFSETTO:-0500
TZNAME:CDT
DTSTART:19700308T020000
RRULE:FREQ=YEARLY;BYMONTH=3;BYDAY=2SU
END:DAYLIGHT
BEGIN:STANDARD
TZOFFSETFROM:-0500
TZOFFSETTO:-0600
TZNAME:CST
DTSTART:19701101T020000
RRULE:FREQ=YEARLY;BYMONTH=11;BYDAY=1SU
END:STANDARD
END:VTIMEZONE
BEGIN:VEVENT
DTSTART;TZID=US/Central:20110914T170000
DTEND;VALUE=DATE-TIME;TZID=US/Central:20110914T180000

DTSTAMP:20260424T143100Z
CREATED:20110908T163000Z
LAST-MODIFIED:20110908T163000Z
UID:20110914T170000-12561@law.utexas.edu
SUMMARY:JD/MBA Dual Degree Info Session
DESCRIPTION:<p>Interested in earning a JD and and MBA in four years?  The law school's Joint Degree Program with the McCombs School of Business can help you do just that. Come hear about the program and its requirements from current joint degree students and academic advisors from both schools</p>\n\nIf you need an accommodation to participate in this event, please contact the event sponsor or the Texas Law Special Events Office at specialevents@law.utexas.edu no later than seven business days prior to the event.
X-ALT-DESC;FMTTYPE=text/html:<p>Interested in earning a JD and and MBA in four years?  The law school's Joint Degree Program with the McCombs School of Business can help you do just that. Come hear about the program and its requirements from current joint degree students and academic advisors from both schools</p><p>If you need an accommodation to participate in this event, please contact the event
                                          event sponsor or the Texas Law Special Events Office at <a href="mailto:specialevents@law.utexas.edu">specialevents@law.utexas.edu</a> no later than seven business days prior to the event.</p>
CATEGORIES:Panel Discussion / Speaker Series
LOCATION:TNH 2.138 - Blanton Classroom
URL:http://law.utexas.edu/calendar/2011/09/14/12561/
CLASS:PUBLIC
STATUS:CONFIRMED

END:VEVENT
END:VCALENDAR