BEGIN:VCALENDAR
VERSION:2.0
PRODID:-//UNIVERSITY OF TEXAS SCHOOL OF LAW//NONSGML Events Calendar v1.0//EN
X-WR-TIMEZONE:America/Chicago
BEGIN:VTIMEZONE
TZID:US/Central
X-LIC-LOCATION:America/Chicago
BEGIN:DAYLIGHT
TZOFFSETFROM:-0600
TZOFFSETTO:-0500
TZNAME:CDT
DTSTART:19700308T020000
RRULE:FREQ=YEARLY;BYMONTH=3;BYDAY=2SU
END:DAYLIGHT
BEGIN:STANDARD
TZOFFSETFROM:-0500
TZOFFSETTO:-0600
TZNAME:CST
DTSTART:19701101T020000
RRULE:FREQ=YEARLY;BYMONTH=11;BYDAY=1SU
END:STANDARD
END:VTIMEZONE
BEGIN:VEVENT
DTSTART;TZID=US/Central:20110914T180000
DTEND;VALUE=DATE-TIME;TZID=US/Central:20110914T190000

DTSTAMP:20260424T143100Z
CREATED:20110912T223700Z
LAST-MODIFIED:20110912T223700Z
UID:20110914T180000-12582@law.utexas.edu
SUMMARY:Not sure BigLaw is right for you?
DESCRIPTION:<p>Beyond Any Bar aims to increase awareness within the school of non-traditional career paths for JDs. We provide opportunities for law students to interact with UT Law alumni who have gone on to successful careers in politics, business, and nonprofits. Come to our info session on Wed., Sept. 14th at 6:00pm in TNH 2.138 to learn more. </p>
  <p>Contact Person: Luis Rincon (luisfrincon@gmail.com).</p>\n\nIf you need an accommodation to participate in this event, please contact the event sponsor or the Texas Law Special Events Office at specialevents@law.utexas.edu no later than seven business days prior to the event.
X-ALT-DESC;FMTTYPE=text/html:<p>Beyond Any Bar aims to increase awareness within the school of non-traditional career paths for JDs. We provide opportunities for law students to interact with UT Law alumni who have gone on to successful careers in politics, business, and nonprofits. Come to our info session on Wed., Sept. 14th at 6:00pm in TNH 2.138 to learn more. </p>
  <p>Contact Person: Luis Rincon (luisfrincon@gmail.com).</p><p>If you need an accommodation to participate in this event, please contact the event
                                          event sponsor or the Texas Law Special Events Office at <a href="mailto:specialevents@law.utexas.edu">specialevents@law.utexas.edu</a> no later than seven business days prior to the event.</p>
CATEGORIES:Panel Discussion / Speaker Series
LOCATION:TNH 2.138 - Blanton Classroom
URL:http://law.utexas.edu/calendar/2011/09/14/12582/
CLASS:PUBLIC
STATUS:CONFIRMED
COMMENT:Contact - Luis Rincon (luisfrincon@gmail.com)
END:VEVENT
END:VCALENDAR