BEGIN:VCALENDAR
VERSION:2.0
PRODID:-//UNIVERSITY OF TEXAS SCHOOL OF LAW//NONSGML Events Calendar v1.0//EN
X-WR-TIMEZONE:America/Chicago
BEGIN:VTIMEZONE
TZID:US/Central
X-LIC-LOCATION:America/Chicago
BEGIN:DAYLIGHT
TZOFFSETFROM:-0600
TZOFFSETTO:-0500
TZNAME:CDT
DTSTART:19700308T020000
RRULE:FREQ=YEARLY;BYMONTH=3;BYDAY=2SU
END:DAYLIGHT
BEGIN:STANDARD
TZOFFSETFROM:-0500
TZOFFSETTO:-0600
TZNAME:CST
DTSTART:19701101T020000
RRULE:FREQ=YEARLY;BYMONTH=11;BYDAY=1SU
END:STANDARD
END:VTIMEZONE
BEGIN:VEVENT
DTSTART;TZID=US/Central:20110915T083000
DTEND;VALUE=DATE-TIME;TZID=US/Central:20110915T093000

DTSTAMP:20260424T143100Z
CREATED:20110822T162200Z
LAST-MODIFIED:20110908T185000Z
UID:20110915T083000-12385@law.utexas.edu
SUMMARY:PS Table Talk - Dean's Breakfast
DESCRIPTION:<p>The Career Services Office invites UT Law students and faculty to visit with both Dean Sager and employers who will be participating in Public Service Table Talk. Breakfast will be held from 8:30-9:30 a.m. in the Sheffield Room. Public Service Table Talk will be held in the Susman Godfrey Atrium from 10:00 a.m.-1:00 p.m. and is open to all UT Law students.</p>
  <p>Please join us in welcoming public service organizations to our campus and sharing information on new developments within the UT Law public service community. We also hope to exchange ideas on creating more opportunities for students to serve the public. </p>
  <p>Students should RSVP by Tuesday, September 13, on <a href="https://law-utexas-csm.symplicity.com/students/"> UT Law Symplicity</a> by selecting the “Events” tab. Faculty and visiting employers should RSVP by Tuesday, September 13, 2011 to Sandra Valencia at svalencia@law.utexas.edu. 
  </p>\n\nIf you need an accommodation to participate in this event, please contact the event sponsor or the Texas Law Special Events Office at specialevents@law.utexas.edu no later than seven business days prior to the event.
X-ALT-DESC;FMTTYPE=text/html:<p>The Career Services Office invites UT Law students and faculty to visit with both Dean Sager and employers who will be participating in Public Service Table Talk. Breakfast will be held from 8:30-9:30 a.m. in the Sheffield Room. Public Service Table Talk will be held in the Susman Godfrey Atrium from 10:00 a.m.-1:00 p.m. and is open to all UT Law students.</p>
  <p>Please join us in welcoming public service organizations to our campus and sharing information on new developments within the UT Law public service community. We also hope to exchange ideas on creating more opportunities for students to serve the public. </p>
  <p>Students should RSVP by Tuesday, September 13, on <a href="https://law-utexas-csm.symplicity.com/students/"> UT Law Symplicity</a> by selecting the “Events” tab. Faculty and visiting employers should RSVP by Tuesday, September 13, 2011 to Sandra Valencia at svalencia@law.utexas.edu. 
  </p><p>If you need an accommodation to participate in this event, please contact the event
                                          event sponsor or the Texas Law Special Events Office at <a href="mailto:specialevents@law.utexas.edu">specialevents@law.utexas.edu</a> no later than seven business days prior to the event.</p>
CATEGORIES:Breakfast
LOCATION:TNH 2.111 - Sheffield-Massey Room
URL:http://law.utexas.edu/calendar/2011/09/15/12385/
CLASS:PUBLIC
STATUS:CONFIRMED
COMMENT:Please contact Sandra Valencia, Job Fair Coordinator, at 512-232-1161 or <a href="mailto:svalencia@law.utexas.edu">svalencia@law.utexas.edu</a>.
END:VEVENT
END:VCALENDAR