BEGIN:VCALENDAR
VERSION:2.0
PRODID:-//UNIVERSITY OF TEXAS SCHOOL OF LAW//NONSGML Events Calendar v1.0//EN
X-WR-TIMEZONE:America/Chicago
BEGIN:VTIMEZONE
TZID:US/Central
X-LIC-LOCATION:America/Chicago
BEGIN:DAYLIGHT
TZOFFSETFROM:-0600
TZOFFSETTO:-0500
TZNAME:CDT
DTSTART:19700308T020000
RRULE:FREQ=YEARLY;BYMONTH=3;BYDAY=2SU
END:DAYLIGHT
BEGIN:STANDARD
TZOFFSETFROM:-0500
TZOFFSETTO:-0600
TZNAME:CST
DTSTART:19701101T020000
RRULE:FREQ=YEARLY;BYMONTH=11;BYDAY=1SU
END:STANDARD
END:VTIMEZONE
BEGIN:VEVENT
DTSTART;TZID=US/Central:20110915T123000
DTEND;VALUE=DATE-TIME;TZID=US/Central:20110915T133000

DTSTAMP:20260424T143100Z
CREATED:20110822T203500Z
LAST-MODIFIED:20110908T184700Z
UID:20110915T123000-12393@law.utexas.edu
SUMMARY:Presidential Management Fellowship
DESCRIPTION:<p>The <a href="http://www.pmf.gov/">Presidential Management Fellowship Program</a> is the premier federal fellowship program for graduate students who will be finishing their degrees by August 2012.   The purpose of the Presidential Management Fellowship Program is to attract to the federal service outstanding men and women from a variety of academic disciplines and career paths who have a clear interest in, and commitment to, excellence in the leadership and management of public policies and programs. Presented by the LBJ School of Public Affairs. </p>\n\nIf you need an accommodation to participate in this event, please contact the event sponsor or the Texas Law Special Events Office at specialevents@law.utexas.edu no later than seven business days prior to the event.
X-ALT-DESC;FMTTYPE=text/html:<p>The <a href="http://www.pmf.gov/">Presidential Management Fellowship Program</a> is the premier federal fellowship program for graduate students who will be finishing their degrees by August 2012.   The purpose of the Presidential Management Fellowship Program is to attract to the federal service outstanding men and women from a variety of academic disciplines and career paths who have a clear interest in, and commitment to, excellence in the leadership and management of public policies and programs. Presented by the LBJ School of Public Affairs. </p><p>If you need an accommodation to participate in this event, please contact the event
                                          event sponsor or the Texas Law Special Events Office at <a href="mailto:specialevents@law.utexas.edu">specialevents@law.utexas.edu</a> no later than seven business days prior to the event.</p>
CATEGORIES:Other
LOCATION:SRH 3.122 at the LBJ School of Public Affairs
URL:http://law.utexas.edu/calendar/2011/09/15/12393/
CLASS:PUBLIC
STATUS:CONFIRMED
COMMENT:Please contact Denyse Demel, Government Career Counselor, at 512-232-1162 or <a href="mailto:ddemel@law.utexas.edu">ddemel@law.utexas.edu</a>.
END:VEVENT
END:VCALENDAR