BEGIN:VCALENDAR
VERSION:2.0
PRODID:-//UNIVERSITY OF TEXAS SCHOOL OF LAW//NONSGML Events Calendar v1.0//EN
X-WR-TIMEZONE:America/Chicago
BEGIN:VTIMEZONE
TZID:US/Central
X-LIC-LOCATION:America/Chicago
BEGIN:DAYLIGHT
TZOFFSETFROM:-0600
TZOFFSETTO:-0500
TZNAME:CDT
DTSTART:19700308T020000
RRULE:FREQ=YEARLY;BYMONTH=3;BYDAY=2SU
END:DAYLIGHT
BEGIN:STANDARD
TZOFFSETFROM:-0500
TZOFFSETTO:-0600
TZNAME:CST
DTSTART:19701101T020000
RRULE:FREQ=YEARLY;BYMONTH=11;BYDAY=1SU
END:STANDARD
END:VTIMEZONE
BEGIN:VEVENT
DTSTART;TZID=US/Central:20111003T153000
DTEND;VALUE=DATE-TIME;TZID=US/Central:20111003T173000

DTSTAMP:20260423T233500Z
CREATED:20110824T204300Z
LAST-MODIFIED:20110930T163800Z
UID:20111003T153000-12409@law.utexas.edu
SUMMARY:Human Rights Happy Hour: Catalina Smulov
DESCRIPTION:<p>Catalina Smulovitz, Director of the Department of Political Science and International Relations at the Universidad Torcuato Di Tella in Argentina, will speak on "Legal Inequality and Domestic Violence. Who gets what and when at the Sub national Level?"</p>\n\nIf you need an accommodation to participate in this event, please contact the event sponsor or the Texas Law Special Events Office at specialevents@law.utexas.edu no later than seven business days prior to the event.
X-ALT-DESC;FMTTYPE=text/html:<p>Catalina Smulovitz, Director of the Department of Political Science and International Relations at the Universidad Torcuato Di Tella in Argentina, will speak on "Legal Inequality and Domestic Violence. Who gets what and when at the Sub national Level?"</p><p>If you need an accommodation to participate in this event, please contact the event
                                          event sponsor or the Texas Law Special Events Office at <a href="mailto:specialevents@law.utexas.edu">specialevents@law.utexas.edu</a> no later than seven business days prior to the event.</p>
CATEGORIES:Panel Discussion / Speaker Series
LOCATION:TNH 2.111 - Sheffield-Massey Room
URL:http://law.utexas.edu/calendar/2011/10/03/12409/
CLASS:PUBLIC
STATUS:CONFIRMED

END:VEVENT
END:VCALENDAR