BEGIN:VCALENDAR
VERSION:2.0
PRODID:-//UNIVERSITY OF TEXAS SCHOOL OF LAW//NONSGML Events Calendar v1.0//EN
X-WR-TIMEZONE:America/Chicago
BEGIN:VTIMEZONE
TZID:US/Central
X-LIC-LOCATION:America/Chicago
BEGIN:DAYLIGHT
TZOFFSETFROM:-0600
TZOFFSETTO:-0500
TZNAME:CDT
DTSTART:19700308T020000
RRULE:FREQ=YEARLY;BYMONTH=3;BYDAY=2SU
END:DAYLIGHT
BEGIN:STANDARD
TZOFFSETFROM:-0500
TZOFFSETTO:-0600
TZNAME:CST
DTSTART:19701101T020000
RRULE:FREQ=YEARLY;BYMONTH=11;BYDAY=1SU
END:STANDARD
END:VTIMEZONE
BEGIN:VEVENT
DTSTART;TZID=US/Central:20111003T180000
DTEND;VALUE=DATE-TIME;TZID=US/Central:20111003T200000

DTSTAMP:20260423T233600Z
CREATED:20110909T170100Z
LAST-MODIFIED:20110929T201600Z
UID:20111003T180000-12570@law.utexas.edu
SUMMARY:Responses to Unique Catastrophes
DESCRIPTION:<p>How do you put a price tag on local seafood, pristine beaches, and clean water? Presented by Kenneth R. Feinberg, administrator of the $20 billion fund established in the wake of the 2010 British Petroleum Deepwater Horizon oil spill, will discuss his careet, how he approaches his work, and the ethics of putting a "price tag" on a human life.</p>\n\nIf you need an accommodation to participate in this event, please contact the event sponsor or the Texas Law Special Events Office at specialevents@law.utexas.edu no later than seven business days prior to the event.
X-ALT-DESC;FMTTYPE=text/html:<p>How do you put a price tag on local seafood, pristine beaches, and clean water? Presented by Kenneth R. Feinberg, administrator of the $20 billion fund established in the wake of the 2010 British Petroleum Deepwater Horizon oil spill, will discuss his careet, how he approaches his work, and the ethics of putting a "price tag" on a human life.</p><p>If you need an accommodation to participate in this event, please contact the event
                                          event sponsor or the Texas Law Special Events Office at <a href="mailto:specialevents@law.utexas.edu">specialevents@law.utexas.edu</a> no later than seven business days prior to the event.</p>
CATEGORIES:Panel Discussion / Speaker Series
LOCATION:Joe C. Thompson Conference Center Auditorium-TCC 1.110
URL:http://law.utexas.edu/calendar/2011/10/03/12570/
CLASS:PUBLIC
STATUS:CONFIRMED

END:VEVENT
END:VCALENDAR