BEGIN:VCALENDAR
VERSION:2.0
PRODID:-//UNIVERSITY OF TEXAS SCHOOL OF LAW//NONSGML Events Calendar v1.0//EN
X-WR-TIMEZONE:America/Chicago
BEGIN:VTIMEZONE
TZID:US/Central
X-LIC-LOCATION:America/Chicago
BEGIN:DAYLIGHT
TZOFFSETFROM:-0600
TZOFFSETTO:-0500
TZNAME:CDT
DTSTART:19700308T020000
RRULE:FREQ=YEARLY;BYMONTH=3;BYDAY=2SU
END:DAYLIGHT
BEGIN:STANDARD
TZOFFSETFROM:-0500
TZOFFSETTO:-0600
TZNAME:CST
DTSTART:19701101T020000
RRULE:FREQ=YEARLY;BYMONTH=11;BYDAY=1SU
END:STANDARD
END:VTIMEZONE
BEGIN:VEVENT
DTSTART;TZID=US/Central:20111004T100000
DTEND;VALUE=DATE-TIME;TZID=US/Central:20111004T150000

DTSTAMP:20260423T233600Z
CREATED:20110926T125800Z
LAST-MODIFIED:20110926T125800Z
UID:20111004T100000-12656@law.utexas.edu
SUMMARY:Assault &amp; Flattery Audition Sign-ups
DESCRIPTION:<p>Assault &amp; Flattery audition sign-ups are in the breezeway October 3 through 6 from 10 a.m. to 3 p.m.  Auditions will be held October 10, 12, and 13 beginning at 6 p.m.  Come sign up for your 10-minute audition slot!  No talent necessary!  Please send any questions regarding A&amp;F auditions to producer@assaultandflattery.com.</p>\n\nIf you need an accommodation to participate in this event, please contact the event sponsor or the Texas Law Special Events Office at specialevents@law.utexas.edu no later than seven business days prior to the event.
X-ALT-DESC;FMTTYPE=text/html:<p>Assault &amp; Flattery audition sign-ups are in the breezeway October 3 through 6 from 10 a.m. to 3 p.m.  Auditions will be held October 10, 12, and 13 beginning at 6 p.m.  Come sign up for your 10-minute audition slot!  No talent necessary!  Please send any questions regarding A&amp;F auditions to producer@assaultandflattery.com.</p><p>If you need an accommodation to participate in this event, please contact the event
                                          event sponsor or the Texas Law Special Events Office at <a href="mailto:specialevents@law.utexas.edu">specialevents@law.utexas.edu</a> no later than seven business days prior to the event.</p>
CATEGORIES:Other
LOCATION:Breezeway
URL:http://law.utexas.edu/calendar/2011/10/04/12656/
CLASS:PUBLIC
STATUS:CONFIRMED

END:VEVENT
END:VCALENDAR