BEGIN:VCALENDAR
VERSION:2.0
PRODID:-//UNIVERSITY OF TEXAS SCHOOL OF LAW//NONSGML Events Calendar v1.0//EN
X-WR-TIMEZONE:America/Chicago
BEGIN:VTIMEZONE
TZID:US/Central
X-LIC-LOCATION:America/Chicago
BEGIN:DAYLIGHT
TZOFFSETFROM:-0600
TZOFFSETTO:-0500
TZNAME:CDT
DTSTART:19700308T020000
RRULE:FREQ=YEARLY;BYMONTH=3;BYDAY=2SU
END:DAYLIGHT
BEGIN:STANDARD
TZOFFSETFROM:-0500
TZOFFSETTO:-0600
TZNAME:CST
DTSTART:19701101T020000
RRULE:FREQ=YEARLY;BYMONTH=11;BYDAY=1SU
END:STANDARD
END:VTIMEZONE
BEGIN:VEVENT
DTSTART;TZID=US/Central:20111004T123000
DTEND;VALUE=DATE-TIME;TZID=US/Central:20111004T133000

DTSTAMP:20260424T143200Z
CREATED:20110930T202800Z
LAST-MODIFIED:20111003T150800Z
UID:20111004T123000-12692@law.utexas.edu
SUMMARY:Parenting and Careers in the Law
DESCRIPTION:<p>How will you balance children and a successful legal career?  Let's talk about it.  Join Law Students for Reproductive Justice, the Center for Women in Law, Women's Law Caucus and the Texas Journal of Women and the Law for an open conversation on parenting and careers in the law.</p>
  <p>This event is a forum for practitioners and students to meet and discuss their experiences and questions regarding the compatibility of being both a parent and an attorney.  Panelists include:</p>
  <p>Manuel Escobar: McGinnis, Lochridge &amp; Kilgore, LLP
  Kristin Etter: Sumpter &amp; Gonzales, LLP
  Professor Jennifer Laurin: UT Law
  Andrea Marsh: Texas Fair Defense Project
  Professor Gretchen Sween: Dechert, LLP and UT Law</p>
  <p>Lunch will be provided following the conversation.
  Students of all genders are welcome and encouraged to attend!</p>\n\nIf you need an accommodation to participate in this event, please contact the event sponsor or the Texas Law Special Events Office at specialevents@law.utexas.edu no later than seven business days prior to the event.
X-ALT-DESC;FMTTYPE=text/html:<p>How will you balance children and a successful legal career?  Let's talk about it.  Join Law Students for Reproductive Justice, the Center for Women in Law, Women's Law Caucus and the Texas Journal of Women and the Law for an open conversation on parenting and careers in the law.</p>
  <p>This event is a forum for practitioners and students to meet and discuss their experiences and questions regarding the compatibility of being both a parent and an attorney.  Panelists include:</p>
  <p>Manuel Escobar: McGinnis, Lochridge &amp; Kilgore, LLP
  Kristin Etter: Sumpter &amp; Gonzales, LLP
  Professor Jennifer Laurin: UT Law
  Andrea Marsh: Texas Fair Defense Project
  Professor Gretchen Sween: Dechert, LLP and UT Law</p>
  <p>Lunch will be provided following the conversation.
  Students of all genders are welcome and encouraged to attend!</p><p>If you need an accommodation to participate in this event, please contact the event
                                          event sponsor or the Texas Law Special Events Office at <a href="mailto:specialevents@law.utexas.edu">specialevents@law.utexas.edu</a> no later than seven business days prior to the event.</p>

LOCATION:TNH 3.140 - Jeffers Courtroom
URL:http://law.utexas.edu/calendar/2011/10/04/12692/
CLASS:PUBLIC
STATUS:CONFIRMED

END:VEVENT
END:VCALENDAR