BEGIN:VCALENDAR
VERSION:2.0
PRODID:-//UNIVERSITY OF TEXAS SCHOOL OF LAW//NONSGML Events Calendar v1.0//EN
X-WR-TIMEZONE:America/Chicago
BEGIN:VTIMEZONE
TZID:US/Central
X-LIC-LOCATION:America/Chicago
BEGIN:DAYLIGHT
TZOFFSETFROM:-0600
TZOFFSETTO:-0500
TZNAME:CDT
DTSTART:19700308T020000
RRULE:FREQ=YEARLY;BYMONTH=3;BYDAY=2SU
END:DAYLIGHT
BEGIN:STANDARD
TZOFFSETFROM:-0500
TZOFFSETTO:-0600
TZNAME:CST
DTSTART:19701101T020000
RRULE:FREQ=YEARLY;BYMONTH=11;BYDAY=1SU
END:STANDARD
END:VTIMEZONE
BEGIN:VEVENT
DTSTART;TZID=US/Central:20111006T113000
DTEND;VALUE=DATE-TIME;TZID=US/Central:20111006T123000

DTSTAMP:20260423T233600Z
CREATED:20111004T171100Z
LAST-MODIFIED:20111004T171100Z
UID:20111006T113000-12703@law.utexas.edu
SUMMARY:Town Hall Meeting with Dean Sager
DESCRIPTION:<p>On October 6 at 11:30 AM, the SBA and I are sponsoring a Town Hall Meeting.  I will give a report on the State of the Law School, take questions, and join in a discussion with all of you who come.  Prime among the topics I plan to take up are:</p>
  <p>•    The Deanship
  •    Budgetary Matters, including Tuition
  •    New Faculty and New Programs
  •    The Employment Picture</p>
  <p>Our meeting will be in the Susman Godfrey Atrium.  Cookies and soft drinks will be served. The refreshments will be available at 11:15.  I’ll make my remarks at 11:30.  We’ll leave plenty of time for questions and discussion.</p>
  <p>This is the first Town Hall meeting of the year.  The SBA and I plan several meetings, where we can take up other questions or explore some of these questions in greater depth.  </p>
  <p>Please join us!</p>
  <p>--Larry Sager</p>\n\nIf you need an accommodation to participate in this event, please contact the event sponsor or the Texas Law Special Events Office at specialevents@law.utexas.edu no later than seven business days prior to the event.
X-ALT-DESC;FMTTYPE=text/html:<p>On October 6 at 11:30 AM, the SBA and I are sponsoring a Town Hall Meeting.  I will give a report on the State of the Law School, take questions, and join in a discussion with all of you who come.  Prime among the topics I plan to take up are:</p>
  <p>•    The Deanship
  •    Budgetary Matters, including Tuition
  •    New Faculty and New Programs
  •    The Employment Picture</p>
  <p>Our meeting will be in the Susman Godfrey Atrium.  Cookies and soft drinks will be served. The refreshments will be available at 11:15.  I’ll make my remarks at 11:30.  We’ll leave plenty of time for questions and discussion.</p>
  <p>This is the first Town Hall meeting of the year.  The SBA and I plan several meetings, where we can take up other questions or explore some of these questions in greater depth.  </p>
  <p>Please join us!</p>
  <p>--Larry Sager</p><p>If you need an accommodation to participate in this event, please contact the event
                                          event sponsor or the Texas Law Special Events Office at <a href="mailto:specialevents@law.utexas.edu">specialevents@law.utexas.edu</a> no later than seven business days prior to the event.</p>
CATEGORIES:Meeting
LOCATION:TNH 2.100 - Susman Godfrey Atrium
URL:http://law.utexas.edu/calendar/2011/10/06/12703/
CLASS:PUBLIC
STATUS:CONFIRMED

END:VEVENT
END:VCALENDAR