BEGIN:VCALENDAR
VERSION:2.0
PRODID:-//UNIVERSITY OF TEXAS SCHOOL OF LAW//NONSGML Events Calendar v1.0//EN
X-WR-TIMEZONE:America/Chicago
BEGIN:VTIMEZONE
TZID:US/Central
X-LIC-LOCATION:America/Chicago
BEGIN:DAYLIGHT
TZOFFSETFROM:-0600
TZOFFSETTO:-0500
TZNAME:CDT
DTSTART:19700308T020000
RRULE:FREQ=YEARLY;BYMONTH=3;BYDAY=2SU
END:DAYLIGHT
BEGIN:STANDARD
TZOFFSETFROM:-0500
TZOFFSETTO:-0600
TZNAME:CST
DTSTART:19701101T020000
RRULE:FREQ=YEARLY;BYMONTH=11;BYDAY=1SU
END:STANDARD
END:VTIMEZONE
BEGIN:VEVENT
DTSTART;TZID=US/Central:20111011T173000
DTEND;VALUE=DATE-TIME;TZID=US/Central:20111011T190000

DTSTAMP:20260423T233600Z
CREATED:20110915T162800Z
LAST-MODIFIED:20111006T145100Z
UID:20111011T173000-12602@law.utexas.edu
SUMMARY:Careers in Health Law panel
DESCRIPTION:<p>Students interested in health law are invited to share pizza and information about possible careers in the field. Hosted by Dr. Bill Sage, UT Law professor and Vice Provost for Health Affairs, with attorneys David Hilgers (Brown McCarroll) and Jerry Bell (Fulbright &amp; Jaworski).</p>\n\nIf you need an accommodation to participate in this event, please contact the event sponsor or the Texas Law Special Events Office at specialevents@law.utexas.edu no later than seven business days prior to the event.
X-ALT-DESC;FMTTYPE=text/html:<p>Students interested in health law are invited to share pizza and information about possible careers in the field. Hosted by Dr. Bill Sage, UT Law professor and Vice Provost for Health Affairs, with attorneys David Hilgers (Brown McCarroll) and Jerry Bell (Fulbright &amp; Jaworski).</p><p>If you need an accommodation to participate in this event, please contact the event
                                          event sponsor or the Texas Law Special Events Office at <a href="mailto:specialevents@law.utexas.edu">specialevents@law.utexas.edu</a> no later than seven business days prior to the event.</p>
CATEGORIES:Panel Discussion / Speaker Series
LOCATION:TNH 3.125 - Denius Classroom
URL:http://law.utexas.edu/calendar/2011/10/11/12602/
CLASS:PUBLIC
STATUS:CONFIRMED

END:VEVENT
END:VCALENDAR