BEGIN:VCALENDAR
VERSION:2.0
PRODID:-//UNIVERSITY OF TEXAS SCHOOL OF LAW//NONSGML Events Calendar v1.0//EN
X-WR-TIMEZONE:America/Chicago
BEGIN:VTIMEZONE
TZID:US/Central
X-LIC-LOCATION:America/Chicago
BEGIN:DAYLIGHT
TZOFFSETFROM:-0600
TZOFFSETTO:-0500
TZNAME:CDT
DTSTART:19700308T020000
RRULE:FREQ=YEARLY;BYMONTH=3;BYDAY=2SU
END:DAYLIGHT
BEGIN:STANDARD
TZOFFSETFROM:-0500
TZOFFSETTO:-0600
TZNAME:CST
DTSTART:19701101T020000
RRULE:FREQ=YEARLY;BYMONTH=11;BYDAY=1SU
END:STANDARD
END:VTIMEZONE
BEGIN:VEVENT
DTSTART;TZID=US/Central:20111014T130000
DTEND;VALUE=DATE-TIME;TZID=US/Central:20111014T140000

DTSTAMP:20260423T233500Z
CREATED:20110929T163700Z
LAST-MODIFIED:20110930T140900Z
UID:20111014T130000-12682@law.utexas.edu
SUMMARY:RA &amp; Research Training
DESCRIPTION:<p>Are you working as an RA for a law school professor this year?  Are you interested in working as an RA in the future?  Do you want to brush up on your research skills, even if you are not an RA?  To help you hit the ground running, the Tarlton Law Library is offering special research training for law students who are or may be RAs.  All students are welcome to attend.  The class is scheduled for Friday, October 14 at 1 p.m. in Tarlton’s Computer Learning Center on the library’s third floor. </p>
  <p>We will explain research techniques for resources most requested by faculty, including how to find e-journals and link directly to their text though our TALLONS catalog and how to find electronic journals and databases that are offered through the UT General Libraries.  We will also go over administrative details like how to check out materials for faculty from various UT libraries and how to request an item from interlibrary loan.  And we will be available to answer any questions you may have about library research, whether for yourself or your faculty member.  
  </p>\n\nIf you need an accommodation to participate in this event, please contact the event sponsor or the Texas Law Special Events Office at specialevents@law.utexas.edu no later than seven business days prior to the event.
X-ALT-DESC;FMTTYPE=text/html:<p>Are you working as an RA for a law school professor this year?  Are you interested in working as an RA in the future?  Do you want to brush up on your research skills, even if you are not an RA?  To help you hit the ground running, the Tarlton Law Library is offering special research training for law students who are or may be RAs.  All students are welcome to attend.  The class is scheduled for Friday, October 14 at 1 p.m. in Tarlton’s Computer Learning Center on the library’s third floor. </p>
  <p>We will explain research techniques for resources most requested by faculty, including how to find e-journals and link directly to their text though our TALLONS catalog and how to find electronic journals and databases that are offered through the UT General Libraries.  We will also go over administrative details like how to check out materials for faculty from various UT libraries and how to request an item from interlibrary loan.  And we will be available to answer any questions you may have about library research, whether for yourself or your faculty member.  
  </p><p>If you need an accommodation to participate in this event, please contact the event
                                          event sponsor or the Texas Law Special Events Office at <a href="mailto:specialevents@law.utexas.edu">specialevents@law.utexas.edu</a> no later than seven business days prior to the event.</p>
CATEGORIES:Workshop / Training Program
LOCATION:Computer Learning Center, Library
URL:http://law.utexas.edu/calendar/2011/10/14/12682/
CLASS:PUBLIC
STATUS:CONFIRMED

END:VEVENT
END:VCALENDAR