BEGIN:VCALENDAR
VERSION:2.0
PRODID:-//UNIVERSITY OF TEXAS SCHOOL OF LAW//NONSGML Events Calendar v1.0//EN
X-WR-TIMEZONE:America/Chicago
BEGIN:VTIMEZONE
TZID:US/Central
X-LIC-LOCATION:America/Chicago
BEGIN:DAYLIGHT
TZOFFSETFROM:-0600
TZOFFSETTO:-0500
TZNAME:CDT
DTSTART:19700308T020000
RRULE:FREQ=YEARLY;BYMONTH=3;BYDAY=2SU
END:DAYLIGHT
BEGIN:STANDARD
TZOFFSETFROM:-0500
TZOFFSETTO:-0600
TZNAME:CST
DTSTART:19701101T020000
RRULE:FREQ=YEARLY;BYMONTH=11;BYDAY=1SU
END:STANDARD
END:VTIMEZONE
BEGIN:VEVENT
DTSTART;TZID=US/Central:20111026T153000
DTEND;VALUE=DATE-TIME;TZID=US/Central:20111026T163000

DTSTAMP:20260423T233600Z
CREATED:20110818T175700Z
LAST-MODIFIED:20111019T180200Z
UID:20111026T153000-12377@law.utexas.edu
SUMMARY:Tarlton Talks with Professor Forbath
DESCRIPTION:<p>Do you wonder what your professors work on outside of the classroom? Here’s your chance to find out! Professors speak to students in an informal setting about their personal research – what interests them, what they’ve learned, how they do it. We will start off the series this year with Professor William Forbath, one of the nation’s leading legal and constitutional scholars.  Learn about his research on how Jewish lawyers a century ago used constitutional law to define what it meant to be both an American and a Jew.  Join us on Wednesday, October 26 at 3:30 pm in the Sheffield Room. Light refreshments will be served.   We will be recording the session for those who can’t make it – a link will be posted on the Library’s blog. </p>\n\nIf you need an accommodation to participate in this event, please contact the event sponsor or the Texas Law Special Events Office at specialevents@law.utexas.edu no later than seven business days prior to the event.
X-ALT-DESC;FMTTYPE=text/html:<p>Do you wonder what your professors work on outside of the classroom? Here’s your chance to find out! Professors speak to students in an informal setting about their personal research – what interests them, what they’ve learned, how they do it. We will start off the series this year with Professor William Forbath, one of the nation’s leading legal and constitutional scholars.  Learn about his research on how Jewish lawyers a century ago used constitutional law to define what it meant to be both an American and a Jew.  Join us on Wednesday, October 26 at 3:30 pm in the Sheffield Room. Light refreshments will be served.   We will be recording the session for those who can’t make it – a link will be posted on the Library’s blog. </p><p>If you need an accommodation to participate in this event, please contact the event
                                          event sponsor or the Texas Law Special Events Office at <a href="mailto:specialevents@law.utexas.edu">specialevents@law.utexas.edu</a> no later than seven business days prior to the event.</p>
CATEGORIES:Panel Discussion / Speaker Series
LOCATION:TNH 2.111 - Sheffield-Massey Room
URL:http://law.utexas.edu/calendar/2011/10/26/12377/
CLASS:PUBLIC
STATUS:CONFIRMED

END:VEVENT
END:VCALENDAR