BEGIN:VCALENDAR
VERSION:2.0
PRODID:-//UNIVERSITY OF TEXAS SCHOOL OF LAW//NONSGML Events Calendar v1.0//EN
X-WR-TIMEZONE:America/Chicago
BEGIN:VTIMEZONE
TZID:US/Central
X-LIC-LOCATION:America/Chicago
BEGIN:DAYLIGHT
TZOFFSETFROM:-0600
TZOFFSETTO:-0500
TZNAME:CDT
DTSTART:19700308T020000
RRULE:FREQ=YEARLY;BYMONTH=3;BYDAY=2SU
END:DAYLIGHT
BEGIN:STANDARD
TZOFFSETFROM:-0500
TZOFFSETTO:-0600
TZNAME:CST
DTSTART:19701101T020000
RRULE:FREQ=YEARLY;BYMONTH=11;BYDAY=1SU
END:STANDARD
END:VTIMEZONE
BEGIN:VEVENT
DTSTART;TZID=US/Central:20111026T150000
DTEND;VALUE=DATE-TIME;TZID=US/Central:20111026T153000

DTSTAMP:20260423T233600Z
CREATED:20111010T184900Z
LAST-MODIFIED:20111024T170600Z
UID:20111026T150000-12735@law.utexas.edu
SUMMARY:International Arbitration Moot Info. Ses
DESCRIPTION:<p>Seeking team members to participate in the Skadden, Arps Foreign Direct Investment (FDI) Moot Court Competition. 
  	The FDI Moot spans a period of approximately six months each year and has two phases: the writing of memoranda for claimant and respondent and the hearing of oral argument based upon the memoranda. 
  	The problem is usually released in January with the oral competition being held the following November. 
  	For more information on the competition, go to www.fdimoot.org.
  	All interested law students are welcome to attend an informational meeting on Wednesday October 26 at 3:00 pm in the Eidman Jury Room (refreshments available).
  </p>\n\nIf you need an accommodation to participate in this event, please contact the event sponsor or the Texas Law Special Events Office at specialevents@law.utexas.edu no later than seven business days prior to the event.
X-ALT-DESC;FMTTYPE=text/html:<p>Seeking team members to participate in the Skadden, Arps Foreign Direct Investment (FDI) Moot Court Competition. 
  	The FDI Moot spans a period of approximately six months each year and has two phases: the writing of memoranda for claimant and respondent and the hearing of oral argument based upon the memoranda. 
  	The problem is usually released in January with the oral competition being held the following November. 
  	For more information on the competition, go to www.fdimoot.org.
  	All interested law students are welcome to attend an informational meeting on Wednesday October 26 at 3:00 pm in the Eidman Jury Room (refreshments available).
  </p><p>If you need an accommodation to participate in this event, please contact the event
                                          event sponsor or the Texas Law Special Events Office at <a href="mailto:specialevents@law.utexas.edu">specialevents@law.utexas.edu</a> no later than seven business days prior to the event.</p>
CATEGORIES:Meeting
LOCATION:CCJ 2.310 - Jury Room
URL:http://law.utexas.edu/calendar/2011/10/26/12735/
CLASS:PUBLIC
STATUS:CONFIRMED

END:VEVENT
END:VCALENDAR