BEGIN:VCALENDAR
VERSION:2.0
PRODID:-//UNIVERSITY OF TEXAS SCHOOL OF LAW//NONSGML Events Calendar v1.0//EN
X-WR-TIMEZONE:America/Chicago
BEGIN:VTIMEZONE
TZID:US/Central
X-LIC-LOCATION:America/Chicago
BEGIN:DAYLIGHT
TZOFFSETFROM:-0600
TZOFFSETTO:-0500
TZNAME:CDT
DTSTART:19700308T020000
RRULE:FREQ=YEARLY;BYMONTH=3;BYDAY=2SU
END:DAYLIGHT
BEGIN:STANDARD
TZOFFSETFROM:-0500
TZOFFSETTO:-0600
TZNAME:CST
DTSTART:19701101T020000
RRULE:FREQ=YEARLY;BYMONTH=11;BYDAY=1SU
END:STANDARD
END:VTIMEZONE
BEGIN:VEVENT
DTSTART;TZID=US/Central:20111027T183000


DTSTAMP:20260423T233500Z
CREATED:20111011T201200Z
LAST-MODIFIED:20111021T165700Z
UID:20111027T183000-12740@law.utexas.edu
SUMMARY:Movie Night "Crime after Crime"
DESCRIPTION:<p>In recognition of National Pro Bono Week (October 23-29) and Domestic Violence Awareness Month, the UT Law Pro Bono Program has organized a special screening for the law school community of the award-winning documentary film Crime After Crime.  </p>
  <p>The event will take place on Thursday, October 27, 2011 at the Violet Crown Theater in downtown Austin.  Attendees will gather in the Violet Crown lounge at 6:30 pm for a brief reception (popcorn provided, cash bar), followed by the movie screening at 7 pm and closing remarks after the movie.</p>
  <p>Special Guests: 
  Jake Gilbreath, '09, Piper &amp; Turner, PLLC, pro bono domestic violence lawyer and
  Gretta Gardner, JD, Safe Haven Grant Director, Travis County Counseling &amp; Education Services</p>
  <p>Tickets on sale in the Atrium from 11-1 on Tuesday, Oct. 25 and Wed., Oct. 26 and in the pro bono office, CCJ 1.324.</p>
  <p>Sponsored by: Pro Bono Program
  Co-sponsored by: Survivor Support Network</p>\n\nIf you need an accommodation to participate in this event, please contact the event sponsor or the Texas Law Special Events Office at specialevents@law.utexas.edu no later than seven business days prior to the event.
X-ALT-DESC;FMTTYPE=text/html:<p>In recognition of National Pro Bono Week (October 23-29) and Domestic Violence Awareness Month, the UT Law Pro Bono Program has organized a special screening for the law school community of the award-winning documentary film Crime After Crime.  </p>
  <p>The event will take place on Thursday, October 27, 2011 at the Violet Crown Theater in downtown Austin.  Attendees will gather in the Violet Crown lounge at 6:30 pm for a brief reception (popcorn provided, cash bar), followed by the movie screening at 7 pm and closing remarks after the movie.</p>
  <p>Special Guests: 
  Jake Gilbreath, '09, Piper &amp; Turner, PLLC, pro bono domestic violence lawyer and
  Gretta Gardner, JD, Safe Haven Grant Director, Travis County Counseling &amp; Education Services</p>
  <p>Tickets on sale in the Atrium from 11-1 on Tuesday, Oct. 25 and Wed., Oct. 26 and in the pro bono office, CCJ 1.324.</p>
  <p>Sponsored by: Pro Bono Program
  Co-sponsored by: Survivor Support Network</p><p>If you need an accommodation to participate in this event, please contact the event
                                          event sponsor or the Texas Law Special Events Office at <a href="mailto:specialevents@law.utexas.edu">specialevents@law.utexas.edu</a> no later than seven business days prior to the event.</p>
CATEGORIES:Other
LOCATION:Violet Crown Cinema
URL:http://law.utexas.edu/calendar/2011/10/27/12740/
CLASS:PUBLIC
STATUS:CONFIRMED

END:VEVENT
END:VCALENDAR